{"text_format":"3","workbook":"xlsx","n_sheets":1,"sheets":["黄平县"],"not_rendered":{"external_links":1,"defined_names":2},"read":"whole","date_system":"1900"}

{"sheet":"黄平县","index":0,"n_rows":292,"n_cols":10,"rows_kept":292,"merged":[[0,0,0,9]]}
["黄平县2025年公开选聘城市社区工作者笔试成绩排名及\n入围资格复审考生名单"]
["序号","姓名","准考证号","报考单位名称","报考职位名称","职位代码","笔试成绩","排名","是否入围资格复审","备注"]
[1,"蔡利雯","25040100423","新州镇东方社区","专职网格员",{"$f":"VLOOKUP(C3,[1]考生安排表!$C:$F,4,FALSE)","v":"0001"},70.5,{"$f":"SUMPRODUCT(($D$3:$D$292=D3)*($E$3:$E$292=E3)*($G$3:$G$292>G3))+1","v":1},"是"]
[2,"田怡","25040101009","新州镇东方社区","专职网格员",{"$f":"VLOOKUP(C4,[1]考生安排表!$C:$F,4,FALSE)","v":"0001"},70,{"$f":"SUMPRODUCT(($D$3:$D$292=D4)*($E$3:$E$292=E4)*($G$3:$G$292>G4))+1","v":2},"是"]
[3,"任波","25040100202","新州镇东方社区","专职网格员",{"$f":"VLOOKUP(C5,[1]考生安排表!$C:$F,4,FALSE)","v":"0001"},69,{"$f":"SUMPRODUCT(($D$3:$D$292=D5)*($E$3:$E$292=E5)*($G$3:$G$292>G5))+1","v":3},"是"]
[4,"杨正雯","25040100424","新州镇东方社区","专职网格员",{"$f":"VLOOKUP(C6,[1]考生安排表!$C:$F,4,FALSE)","v":"0001"},67,{"$f":"SUMPRODUCT(($D$3:$D$292=D6)*($E$3:$E$292=E6)*($G$3:$G$292>G6))+1","v":4}]
[5,"张琼","25040100221","新州镇东方社区","专职网格员",{"$f":"VLOOKUP(C7,[1]考生安排表!$C:$F,4,FALSE)","v":"0001"},66.5,{"$f":"SUMPRODUCT(($D$3:$D$292=D7)*($E$3:$E$292=E7)*($G$3:$G$292>G7))+1","v":5}]
[6,"杨胜江","25040100125","新州镇东方社区","专职网格员",{"$f":"VLOOKUP(C8,[1]考生安排表!$C:$F,4,FALSE)","v":"0001"},62,{"$f":"SUMPRODUCT(($D$3:$D$292=D8)*($E$3:$E$292=E8)*($G$3:$G$292>G8))+1","v":6}]
[7,"杨朝群","25040100517","新州镇东方社区","专职网格员",{"$f":"VLOOKUP(C9,[1]考生安排表!$C:$F,4,FALSE)","v":"0001"},60.5,{"$f":"SUMPRODUCT(($D$3:$D$292=D9)*($E$3:$E$292=E9)*($G$3:$G$292>G9))+1","v":7}]
[8,"潘家厚","25040100218","新州镇东方社区","专职网格员",{"$f":"VLOOKUP(C10,[1]考生安排表!$C:$F,4,FALSE)","v":"0001"},59,{"$f":"SUMPRODUCT(($D$3:$D$292=D10)*($E$3:$E$292=E10)*($G$3:$G$292>G10))+1","v":8}]
[9,"周孟香","25040100213","新州镇东方社区","专职网格员",{"$f":"VLOOKUP(C11,[1]考生安排表!$C:$F,4,FALSE)","v":"0001"},53,{"$f":"SUMPRODUCT(($D$3:$D$292=D11)*($E$3:$E$292=E11)*($G$3:$G$292>G11))+1","v":9}]
[10,"杨肖","25040100205","新州镇东方社区","专职网格员",{"$f":"VLOOKUP(C12,[1]考生安排表!$C:$F,4,FALSE)","v":"0001"},51.5,{"$f":"SUMPRODUCT(($D$3:$D$292=D12)*($E$3:$E$292=E12)*($G$3:$G$292>G12))+1","v":10}]
[11,"王智超","25040100530","新州镇东方社区","专职网格员",{"$f":"VLOOKUP(C13,[1]考生安排表!$C:$F,4,FALSE)","v":"0001"},49,{"$f":"SUMPRODUCT(($D$3:$D$292=D13)*($E$3:$E$292=E13)*($G$3:$G$292>G13))+1","v":11}]
[12,"宗庆龄","25040100529","新州镇东方社区","专职网格员",{"$f":"VLOOKUP(C14,[1]考生安排表!$C:$F,4,FALSE)","v":"0001"},47,{"$f":"SUMPRODUCT(($D$3:$D$292=D14)*($E$3:$E$292=E14)*($G$3:$G$292>G14))+1","v":12}]
[13,"杨能","25040101008","新州镇东方社区","专职网格员",{"$f":"VLOOKUP(C15,[1]考生安排表!$C:$F,4,FALSE)","v":"0001"},46.5,{"$f":"SUMPRODUCT(($D$3:$D$292=D15)*($E$3:$E$292=E15)*($G$3:$G$292>G15))+1","v":13}]
[14,"吴朝艺","25040101010","新州镇东方社区","专职网格员",{"$f":"VLOOKUP(C16,[1]考生安排表!$C:$F,4,FALSE)","v":"0001"},46,{"$f":"SUMPRODUCT(($D$3:$D$292=D16)*($E$3:$E$292=E16)*($G$3:$G$292>G16))+1","v":14}]
[15,"杨江妹","25040100909","新州镇东方社区","专职网格员",{"$f":"VLOOKUP(C17,[1]考生安排表!$C:$F,4,FALSE)","v":"0001"},45,{"$f":"SUMPRODUCT(($D$3:$D$292=D17)*($E$3:$E$292=E17)*($G$3:$G$292>G17))+1","v":15}]
[16,"涂昌平","25040100916","新州镇东方社区","专职网格员",{"$f":"VLOOKUP(C18,[1]考生安排表!$C:$F,4,FALSE)","v":"0001"},34.5,{"$f":"SUMPRODUCT(($D$3:$D$292=D18)*($E$3:$E$292=E18)*($G$3:$G$292>G18))+1","v":16}]
[17,"吴黔兴","25040100526","新州镇东方社区","专职网格员",{"$f":"VLOOKUP(C19,[1]考生安排表!$C:$F,4,FALSE)","v":"0001"},0,{"$f":"SUMPRODUCT(($D$3:$D$292=D19)*($E$3:$E$292=E19)*($G$3:$G$292>G19))+1","v":17},null,"缺考"]
[18,"潘立春","25040100606","新州镇东方社区","专职网格员",{"$f":"VLOOKUP(C20,[1]考生安排表!$C:$F,4,FALSE)","v":"0001"},0,{"$f":"SUMPRODUCT(($D$3:$D$292=D20)*($E$3:$E$292=E20)*($G$3:$G$292>G20))+1","v":17},null,"缺考"]
[19,"朱荣涛","25040100718","新州镇东方社区","专职网格员",{"$f":"VLOOKUP(C21,[1]考生安排表!$C:$F,4,FALSE)","v":"0001"},0,{"$f":"SUMPRODUCT(($D$3:$D$292=D21)*($E$3:$E$292=E21)*($G$3:$G$292>G21))+1","v":17},null,"缺考"]
[20,"吴昌艳","25040100728","新州镇东方社区","专职网格员",{"$f":"VLOOKUP(C22,[1]考生安排表!$C:$F,4,FALSE)","v":"0001"},0,{"$f":"SUMPRODUCT(($D$3:$D$292=D22)*($E$3:$E$292=E22)*($G$3:$G$292>G22))+1","v":17},null,"缺考"]
[21,"吴艳","25040100813","新州镇东方社区","专职网格员",{"$f":"VLOOKUP(C23,[1]考生安排表!$C:$F,4,FALSE)","v":"0001"},0,{"$f":"SUMPRODUCT(($D$3:$D$292=D23)*($E$3:$E$292=E23)*($G$3:$G$292>G23))+1","v":17},null,"缺考"]
[22,"吴晓沣","25040101007","新州镇东方社区","专职网格员",{"$f":"VLOOKUP(C24,[1]考生安排表!$C:$F,4,FALSE)","v":"0001"},0,{"$f":"SUMPRODUCT(($D$3:$D$292=D24)*($E$3:$E$292=E24)*($G$3:$G$292>G24))+1","v":17},null,"缺考"]
[23,"王英","25040101019","新州镇东方社区","专职网格员",{"$f":"VLOOKUP(C25,[1]考生安排表!$C:$F,4,FALSE)","v":"0001"},0,{"$f":"SUMPRODUCT(($D$3:$D$292=D25)*($E$3:$E$292=E25)*($G$3:$G$292>G25))+1","v":17},null,"缺考"]
[24,"杨雨炳","25040100128","新州镇东营社区","专职网格员",{"$f":"VLOOKUP(C26,[1]考生安排表!$C:$F,4,FALSE)","v":"0002"},78,{"$f":"SUMPRODUCT(($D$3:$D$292=D26)*($E$3:$E$292=E26)*($G$3:$G$292>G26))+1","v":1},"是"]
[25,"雷金橙","25040100821","新州镇东营社区","专职网格员",{"$f":"VLOOKUP(C27,[1]考生安排表!$C:$F,4,FALSE)","v":"0002"},77,{"$f":"SUMPRODUCT(($D$3:$D$292=D27)*($E$3:$E$292=E27)*($G$3:$G$292>G27))+1","v":2},"是"]
[26,"雷蕾","25040100509","新州镇东营社区","专职网格员",{"$f":"VLOOKUP(C28,[1]考生安排表!$C:$F,4,FALSE)","v":"0002"},76,{"$f":"SUMPRODUCT(($D$3:$D$292=D28)*($E$3:$E$292=E28)*($G$3:$G$292>G28))+1","v":3},"是"]
[27,"向莹莹","25040100124","新州镇东营社区","专职网格员",{"$f":"VLOOKUP(C29,[1]考生安排表!$C:$F,4,FALSE)","v":"0002"},72,{"$f":"SUMPRODUCT(($D$3:$D$292=D29)*($E$3:$E$292=E29)*($G$3:$G$292>G29))+1","v":4}]
[28,"瞿绍垚","25040100710","新州镇东营社区","专职网格员",{"$f":"VLOOKUP(C30,[1]考生安排表!$C:$F,4,FALSE)","v":"0002"},70.5,{"$f":"SUMPRODUCT(($D$3:$D$292=D30)*($E$3:$E$292=E30)*($G$3:$G$292>G30))+1","v":5}]
[29,"杨梅","25040101003","新州镇东营社区","专职网格员",{"$f":"VLOOKUP(C31,[1]考生安排表!$C:$F,4,FALSE)","v":"0002"},67,{"$f":"SUMPRODUCT(($D$3:$D$292=D31)*($E$3:$E$292=E31)*($G$3:$G$292>G31))+1","v":6}]
[30,"张仁江","25040100626","新州镇东营社区","专职网格员",{"$f":"VLOOKUP(C32,[1]考生安排表!$C:$F,4,FALSE)","v":"0002"},67,{"$f":"SUMPRODUCT(($D$3:$D$292=D32)*($E$3:$E$292=E32)*($G$3:$G$292>G32))+1","v":6}]
[31,"潘麴","25040100324","新州镇东营社区","专职网格员",{"$f":"VLOOKUP(C33,[1]考生安排表!$C:$F,4,FALSE)","v":"0002"},64.5,{"$f":"SUMPRODUCT(($D$3:$D$292=D33)*($E$3:$E$292=E33)*($G$3:$G$292>G33))+1","v":8}]
[32,"杨平安","25040100912","新州镇东营社区","专职网格员",{"$f":"VLOOKUP(C34,[1]考生安排表!$C:$F,4,FALSE)","v":"0002"},64,{"$f":"SUMPRODUCT(($D$3:$D$292=D34)*($E$3:$E$292=E34)*($G$3:$G$292>G34))+1","v":9}]
[33,"廖世鑫","25040100827","新州镇东营社区","专职网格员",{"$f":"VLOOKUP(C35,[1]考生安排表!$C:$F,4,FALSE)","v":"0002"},62.5,{"$f":"SUMPRODUCT(($D$3:$D$292=D35)*($E$3:$E$292=E35)*($G$3:$G$292>G35))+1","v":10}]
[34,"潘旭阳","25040100505","新州镇东营社区","专职网格员",{"$f":"VLOOKUP(C36,[1]考生安排表!$C:$F,4,FALSE)","v":"0002"},61.5,{"$f":"SUMPRODUCT(($D$3:$D$292=D36)*($E$3:$E$292=E36)*($G$3:$G$292>G36))+1","v":11}]
[35,"杨江琴","25040101016","新州镇东营社区","专职网格员",{"$f":"VLOOKUP(C37,[1]考生安排表!$C:$F,4,FALSE)","v":"0002"},59.5,{"$f":"SUMPRODUCT(($D$3:$D$292=D37)*($E$3:$E$292=E37)*($G$3:$G$292>G37))+1","v":12}]
[36,"潘礼成","25040101017","新州镇东营社区","专职网格员",{"$f":"VLOOKUP(C38,[1]考生安排表!$C:$F,4,FALSE)","v":"0002"},58,{"$f":"SUMPRODUCT(($D$3:$D$292=D38)*($E$3:$E$292=E38)*($G$3:$G$292>G38))+1","v":13}]
[37,"陈刚艳","25040100120","新州镇东营社区","专职网格员",{"$f":"VLOOKUP(C39,[1]考生安排表!$C:$F,4,FALSE)","v":"0002"},57.5,{"$f":"SUMPRODUCT(($D$3:$D$292=D39)*($E$3:$E$292=E39)*($G$3:$G$292>G39))+1","v":14}]
[38,"吴艳","25040100929","新州镇东营社区","专职网格员",{"$f":"VLOOKUP(C40,[1]考生安排表!$C:$F,4,FALSE)","v":"0002"},57.5,{"$f":"SUMPRODUCT(($D$3:$D$292=D40)*($E$3:$E$292=E40)*($G$3:$G$292>G40))+1","v":14}]
[39,"蔡林莉","25040100515","新州镇东营社区","专职网格员",{"$f":"VLOOKUP(C41,[1]考生安排表!$C:$F,4,FALSE)","v":"0002"},57.5,{"$f":"SUMPRODUCT(($D$3:$D$292=D41)*($E$3:$E$292=E41)*($G$3:$G$292>G41))+1","v":14}]
[40,"李师其","25040100126","新州镇东营社区","专职网格员",{"$f":"VLOOKUP(C42,[1]考生安排表!$C:$F,4,FALSE)","v":"0002"},57,{"$f":"SUMPRODUCT(($D$3:$D$292=D42)*($E$3:$E$292=E42)*($G$3:$G$292>G42))+1","v":17}]
[41,"白典奇","25040100525","新州镇东营社区","专职网格员",{"$f":"VLOOKUP(C43,[1]考生安排表!$C:$F,4,FALSE)","v":"0002"},57,{"$f":"SUMPRODUCT(($D$3:$D$292=D43)*($E$3:$E$292=E43)*($G$3:$G$292>G43))+1","v":17}]
[42,"简永琴","25040100228","新州镇东营社区","专职网格员",{"$f":"VLOOKUP(C44,[1]考生安排表!$C:$F,4,FALSE)","v":"0002"},56.5,{"$f":"SUMPRODUCT(($D$3:$D$292=D44)*($E$3:$E$292=E44)*($G$3:$G$292>G44))+1","v":19}]
[43,"周雪梅","25040100720","新州镇东营社区","专职网格员",{"$f":"VLOOKUP(C45,[1]考生安排表!$C:$F,4,FALSE)","v":"0002"},55,{"$f":"SUMPRODUCT(($D$3:$D$292=D45)*($E$3:$E$292=E45)*($G$3:$G$292>G45))+1","v":20}]
[44,"吴锐","25040100605","新州镇东营社区","专职网格员",{"$f":"VLOOKUP(C46,[1]考生安排表!$C:$F,4,FALSE)","v":"0002"},54.5,{"$f":"SUMPRODUCT(($D$3:$D$292=D46)*($E$3:$E$292=E46)*($G$3:$G$292>G46))+1","v":21}]
[45,"周兰玲","25040100802","新州镇东营社区","专职网格员",{"$f":"VLOOKUP(C47,[1]考生安排表!$C:$F,4,FALSE)","v":"0002"},52.5,{"$f":"SUMPRODUCT(($D$3:$D$292=D47)*($E$3:$E$292=E47)*($G$3:$G$292>G47))+1","v":22}]
[46,"周明英","25040100803","新州镇东营社区","专职网格员",{"$f":"VLOOKUP(C48,[1]考生安排表!$C:$F,4,FALSE)","v":"0002"},49.5,{"$f":"SUMPRODUCT(($D$3:$D$292=D48)*($E$3:$E$292=E48)*($G$3:$G$292>G48))+1","v":23}]
[47,"雷小会","25040100611","新州镇东营社区","专职网格员",{"$f":"VLOOKUP(C49,[1]考生安排表!$C:$F,4,FALSE)","v":"0002"},47,{"$f":"SUMPRODUCT(($D$3:$D$292=D49)*($E$3:$E$292=E49)*($G$3:$G$292>G49))+1","v":24}]
[48,"吴琪琪","25040100801","新州镇东营社区","专职网格员",{"$f":"VLOOKUP(C50,[1]考生安排表!$C:$F,4,FALSE)","v":"0002"},44,{"$f":"SUMPRODUCT(($D$3:$D$292=D50)*($E$3:$E$292=E50)*($G$3:$G$292>G50))+1","v":25}]
[49,"张燕梅","25040100116","新州镇东营社区","专职网格员",{"$f":"VLOOKUP(C51,[1]考生安排表!$C:$F,4,FALSE)","v":"0002"},0,{"$f":"SUMPRODUCT(($D$3:$D$292=D51)*($E$3:$E$292=E51)*($G$3:$G$292>G51))+1","v":26},null,"缺考"]
[50,"石甜甜","25040100304","新州镇东营社区","专职网格员",{"$f":"VLOOKUP(C52,[1]考生安排表!$C:$F,4,FALSE)","v":"0002"},0,{"$f":"SUMPRODUCT(($D$3:$D$292=D52)*($E$3:$E$292=E52)*($G$3:$G$292>G52))+1","v":26},null,"缺考"]
[51,"张晓露","25040100315","新州镇东营社区","专职网格员",{"$f":"VLOOKUP(C53,[1]考生安排表!$C:$F,4,FALSE)","v":"0002"},0,{"$f":"SUMPRODUCT(($D$3:$D$292=D53)*($E$3:$E$292=E53)*($G$3:$G$292>G53))+1","v":26},null,"缺考"]
[52,"武俞月","25040100510","新州镇东营社区","专职网格员",{"$f":"VLOOKUP(C54,[1]考生安排表!$C:$F,4,FALSE)","v":"0002"},0,{"$f":"SUMPRODUCT(($D$3:$D$292=D54)*($E$3:$E$292=E54)*($G$3:$G$292>G54))+1","v":26},null,"缺考"]
[53,"冷启红","25040100604","新州镇东营社区","专职网格员",{"$f":"VLOOKUP(C55,[1]考生安排表!$C:$F,4,FALSE)","v":"0002"},0,{"$f":"SUMPRODUCT(($D$3:$D$292=D55)*($E$3:$E$292=E55)*($G$3:$G$292>G55))+1","v":26},null,"缺考"]
[54,"吴思霖","25040100623","新州镇东营社区","专职网格员",{"$f":"VLOOKUP(C56,[1]考生安排表!$C:$F,4,FALSE)","v":"0002"},0,{"$f":"SUMPRODUCT(($D$3:$D$292=D56)*($E$3:$E$292=E56)*($G$3:$G$292>G56))+1","v":26},null,"缺考"]
[55,"王玲玲","25040100808","新州镇东营社区","专职网格员",{"$f":"VLOOKUP(C57,[1]考生安排表!$C:$F,4,FALSE)","v":"0002"},0,{"$f":"SUMPRODUCT(($D$3:$D$292=D57)*($E$3:$E$292=E57)*($G$3:$G$292>G57))+1","v":26},null,"缺考"]
[56,"潘家凯","25040100819","新州镇东营社区","专职网格员",{"$f":"VLOOKUP(C58,[1]考生安排表!$C:$F,4,FALSE)","v":"0002"},0,{"$f":"SUMPRODUCT(($D$3:$D$292=D58)*($E$3:$E$292=E58)*($G$3:$G$292>G58))+1","v":26},null,"缺考"]
[57,"潘岳","25040100901","新州镇东营社区","专职网格员",{"$f":"VLOOKUP(C59,[1]考生安排表!$C:$F,4,FALSE)","v":"0002"},0,{"$f":"SUMPRODUCT(($D$3:$D$292=D59)*($E$3:$E$292=E59)*($G$3:$G$292>G59))+1","v":26},null,"缺考"]
[58,"张灿","25040100919","新州镇东营社区","专职网格员",{"$f":"VLOOKUP(C60,[1]考生安排表!$C:$F,4,FALSE)","v":"0002"},0,{"$f":"SUMPRODUCT(($D$3:$D$292=D60)*($E$3:$E$292=E60)*($G$3:$G$292>G60))+1","v":26},null,"缺考"]
[59,"张雅琪","25040100118","新州镇飞云社区","专职网格员",{"$f":"VLOOKUP(C61,[1]考生安排表!$C:$F,4,FALSE)","v":"0003"},76.5,{"$f":"SUMPRODUCT(($D$3:$D$292=D61)*($E$3:$E$292=E61)*($G$3:$G$292>G61))+1","v":1},"是"]
[60,"杨凤筑","25040100902","新州镇飞云社区","专职网格员",{"$f":"VLOOKUP(C62,[1]考生安排表!$C:$F,4,FALSE)","v":"0003"},76,{"$f":"SUMPRODUCT(($D$3:$D$292=D62)*($E$3:$E$292=E62)*($G$3:$G$292>G62))+1","v":2},"是"]
[61,"李飞跃","25040100730","新州镇飞云社区","专职网格员",{"$f":"VLOOKUP(C63,[1]考生安排表!$C:$F,4,FALSE)","v":"0003"},76,{"$f":"SUMPRODUCT(($D$3:$D$292=D63)*($E$3:$E$292=E63)*($G$3:$G$292>G63))+1","v":2},"是"]
[62,"王小燕","25040101012","新州镇飞云社区","专职网格员",{"$f":"VLOOKUP(C64,[1]考生安排表!$C:$F,4,FALSE)","v":"0003"},75.5,{"$f":"SUMPRODUCT(($D$3:$D$292=D64)*($E$3:$E$292=E64)*($G$3:$G$292>G64))+1","v":4},"是"]
[63,"王朝云","25040100622","新州镇飞云社区","专职网格员",{"$f":"VLOOKUP(C65,[1]考生安排表!$C:$F,4,FALSE)","v":"0003"},75.5,{"$f":"SUMPRODUCT(($D$3:$D$292=D65)*($E$3:$E$292=E65)*($G$3:$G$292>G65))+1","v":4},"是"]
[64,"姜晓涯","25040100210","新州镇飞云社区","专职网格员",{"$f":"VLOOKUP(C66,[1]考生安排表!$C:$F,4,FALSE)","v":"0003"},75,{"$f":"SUMPRODUCT(($D$3:$D$292=D66)*($E$3:$E$292=E66)*($G$3:$G$292>G66))+1","v":6},"是"]
[65,"杨林华","25040100223","新州镇飞云社区","专职网格员",{"$f":"VLOOKUP(C67,[1]考生安排表!$C:$F,4,FALSE)","v":"0003"},74.5,{"$f":"SUMPRODUCT(($D$3:$D$292=D67)*($E$3:$E$292=E67)*($G$3:$G$292>G67))+1","v":7}]
[66,"王国琛","25040100207","新州镇飞云社区","专职网格员",{"$f":"VLOOKUP(C68,[1]考生安排表!$C:$F,4,FALSE)","v":"0003"},74.5,{"$f":"SUMPRODUCT(($D$3:$D$292=D68)*($E$3:$E$292=E68)*($G$3:$G$292>G68))+1","v":7}]
[67,"潘宗华","25040100907","新州镇飞云社区","专职网格员",{"$f":"VLOOKUP(C69,[1]考生安排表!$C:$F,4,FALSE)","v":"0003"},74.5,{"$f":"SUMPRODUCT(($D$3:$D$292=D69)*($E$3:$E$292=E69)*($G$3:$G$292>G69))+1","v":7}]
[68,"潘相钱","25040100122","新州镇飞云社区","专职网格员",{"$f":"VLOOKUP(C70,[1]考生安排表!$C:$F,4,FALSE)","v":"0003"},73.5,{"$f":"SUMPRODUCT(($D$3:$D$292=D70)*($E$3:$E$292=E70)*($G$3:$G$292>G70))+1","v":10}]
[69,"王文晔","25040100705","新州镇飞云社区","专职网格员",{"$f":"VLOOKUP(C71,[1]考生安排表!$C:$F,4,FALSE)","v":"0003"},73,{"$f":"SUMPRODUCT(($D$3:$D$292=D71)*($E$3:$E$292=E71)*($G$3:$G$292>G71))+1","v":11}]
[70,"潘阳海","25040100317","新州镇飞云社区","专职网格员",{"$f":"VLOOKUP(C72,[1]考生安排表!$C:$F,4,FALSE)","v":"0003"},73,{"$f":"SUMPRODUCT(($D$3:$D$292=D72)*($E$3:$E$292=E72)*($G$3:$G$292>G72))+1","v":11}]
[71,"杨妹中","25040100322","新州镇飞云社区","专职网格员",{"$f":"VLOOKUP(C73,[1]考生安排表!$C:$F,4,FALSE)","v":"0003"},73,{"$f":"SUMPRODUCT(($D$3:$D$292=D73)*($E$3:$E$292=E73)*($G$3:$G$292>G73))+1","v":11}]
[72,"雷林汐","25040100615","新州镇飞云社区","专职网格员",{"$f":"VLOOKUP(C74,[1]考生安排表!$C:$F,4,FALSE)","v":"0003"},72.5,{"$f":"SUMPRODUCT(($D$3:$D$292=D74)*($E$3:$E$292=E74)*($G$3:$G$292>G74))+1","v":14}]
[73,"王菲菲","25040100409","新州镇飞云社区","专职网格员",{"$f":"VLOOKUP(C75,[1]考生安排表!$C:$F,4,FALSE)","v":"0003"},72,{"$f":"SUMPRODUCT(($D$3:$D$292=D75)*($E$3:$E$292=E75)*($G$3:$G$292>G75))+1","v":15}]
[74,"王艳","25040100523","新州镇飞云社区","专职网格员",{"$f":"VLOOKUP(C76,[1]考生安排表!$C:$F,4,FALSE)","v":"0003"},71.5,{"$f":"SUMPRODUCT(($D$3:$D$292=D76)*($E$3:$E$292=E76)*($G$3:$G$292>G76))+1","v":16}]
[75,"廖隆励","25040100512","新州镇飞云社区","专职网格员",{"$f":"VLOOKUP(C77,[1]考生安排表!$C:$F,4,FALSE)","v":"0003"},69.5,{"$f":"SUMPRODUCT(($D$3:$D$292=D77)*($E$3:$E$292=E77)*($G$3:$G$292>G77))+1","v":17}]
[76,"宋佳","25040100716","新州镇飞云社区","专职网格员",{"$f":"VLOOKUP(C78,[1]考生安排表!$C:$F,4,FALSE)","v":"0003"},69.5,{"$f":"SUMPRODUCT(($D$3:$D$292=D78)*($E$3:$E$292=E78)*($G$3:$G$292>G78))+1","v":17}]
[77,"潘飞","25040100729","新州镇飞云社区","专职网格员",{"$f":"VLOOKUP(C79,[1]考生安排表!$C:$F,4,FALSE)","v":"0003"},69,{"$f":"SUMPRODUCT(($D$3:$D$292=D79)*($E$3:$E$292=E79)*($G$3:$G$292>G79))+1","v":19}]
[78,"安维月","25040100518","新州镇飞云社区","专职网格员",{"$f":"VLOOKUP(C80,[1]考生安排表!$C:$F,4,FALSE)","v":"0003"},68,{"$f":"SUMPRODUCT(($D$3:$D$292=D80)*($E$3:$E$292=E80)*($G$3:$G$292>G80))+1","v":20}]
[79,"赵昌艳","25040100429","新州镇飞云社区","专职网格员",{"$f":"VLOOKUP(C81,[1]考生安排表!$C:$F,4,FALSE)","v":"0003"},67,{"$f":"SUMPRODUCT(($D$3:$D$292=D81)*($E$3:$E$292=E81)*($G$3:$G$292>G81))+1","v":21}]
[80,"王庭春","25040100717","新州镇飞云社区","专职网格员",{"$f":"VLOOKUP(C82,[1]考生安排表!$C:$F,4,FALSE)","v":"0003"},67,{"$f":"SUMPRODUCT(($D$3:$D$292=D82)*($E$3:$E$292=E82)*($G$3:$G$292>G82))+1","v":21}]
[81,"潘元阳","25040100620","新州镇飞云社区","专职网格员",{"$f":"VLOOKUP(C83,[1]考生安排表!$C:$F,4,FALSE)","v":"0003"},66,{"$f":"SUMPRODUCT(($D$3:$D$292=D83)*($E$3:$E$292=E83)*($G$3:$G$292>G83))+1","v":23}]
[82,"杨羽","25040100413","新州镇飞云社区","专职网格员",{"$f":"VLOOKUP(C84,[1]考生安排表!$C:$F,4,FALSE)","v":"0003"},65,{"$f":"SUMPRODUCT(($D$3:$D$292=D84)*($E$3:$E$292=E84)*($G$3:$G$292>G84))+1","v":24}]
[83,"向随洪","25040100610","新州镇飞云社区","专职网格员",{"$f":"VLOOKUP(C85,[1]考生安排表!$C:$F,4,FALSE)","v":"0003"},64.5,{"$f":"SUMPRODUCT(($D$3:$D$292=D85)*($E$3:$E$292=E85)*($G$3:$G$292>G85))+1","v":25}]
[84,"廖琼","25040100112","新州镇飞云社区","专职网格员",{"$f":"VLOOKUP(C86,[1]考生安排表!$C:$F,4,FALSE)","v":"0003"},64,{"$f":"SUMPRODUCT(($D$3:$D$292=D86)*($E$3:$E$292=E86)*($G$3:$G$292>G86))+1","v":26}]
[85,"涂林燕","25040100603","新州镇飞云社区","专职网格员",{"$f":"VLOOKUP(C87,[1]考生安排表!$C:$F,4,FALSE)","v":"0003"},64,{"$f":"SUMPRODUCT(($D$3:$D$292=D87)*($E$3:$E$292=E87)*($G$3:$G$292>G87))+1","v":26}]
[86,"杨春花","25040100811","新州镇飞云社区","专职网格员",{"$f":"VLOOKUP(C88,[1]考生安排表!$C:$F,4,FALSE)","v":"0003"},63.5,{"$f":"SUMPRODUCT(($D$3:$D$292=D88)*($E$3:$E$292=E88)*($G$3:$G$292>G88))+1","v":28}]
[87,"简啸","25040100320","新州镇飞云社区","专职网格员",{"$f":"VLOOKUP(C89,[1]考生安排表!$C:$F,4,FALSE)","v":"0003"},63.5,{"$f":"SUMPRODUCT(($D$3:$D$292=D89)*($E$3:$E$292=E89)*($G$3:$G$292>G89))+1","v":28}]
[88,"杨志高","25040100727","新州镇飞云社区","专职网格员",{"$f":"VLOOKUP(C90,[1]考生安排表!$C:$F,4,FALSE)","v":"0003"},63,{"$f":"SUMPRODUCT(($D$3:$D$292=D90)*($E$3:$E$292=E90)*($G$3:$G$292>G90))+1","v":30}]
[89,"陈相合","25040100926","新州镇飞云社区","专职网格员",{"$f":"VLOOKUP(C91,[1]考生安排表!$C:$F,4,FALSE)","v":"0003"},62.5,{"$f":"SUMPRODUCT(($D$3:$D$292=D91)*($E$3:$E$292=E91)*($G$3:$G$292>G91))+1","v":31}]
[90,"潘晓","25040100830","新州镇飞云社区","专职网格员",{"$f":"VLOOKUP(C92,[1]考生安排表!$C:$F,4,FALSE)","v":"0003"},62,{"$f":"SUMPRODUCT(($D$3:$D$292=D92)*($E$3:$E$292=E92)*($G$3:$G$292>G92))+1","v":32}]
[91,"杨舒悦","25040100513","新州镇飞云社区","专职网格员",{"$f":"VLOOKUP(C93,[1]考生安排表!$C:$F,4,FALSE)","v":"0003"},62,{"$f":"SUMPRODUCT(($D$3:$D$292=D93)*($E$3:$E$292=E93)*($G$3:$G$292>G93))+1","v":32}]
[92,"雷仙花","25040100412","新州镇飞云社区","专职网格员",{"$f":"VLOOKUP(C94,[1]考生安排表!$C:$F,4,FALSE)","v":"0003"},61,{"$f":"SUMPRODUCT(($D$3:$D$292=D94)*($E$3:$E$292=E94)*($G$3:$G$292>G94))+1","v":34}]
[93,"张子鉴","25040100809","新州镇飞云社区","专职网格员",{"$f":"VLOOKUP(C95,[1]考生安排表!$C:$F,4,FALSE)","v":"0003"},58.5,{"$f":"SUMPRODUCT(($D$3:$D$292=D95)*($E$3:$E$292=E95)*($G$3:$G$292>G95))+1","v":35}]
[94,"杨芳","25040100621","新州镇飞云社区","专职网格员",{"$f":"VLOOKUP(C96,[1]考生安排表!$C:$F,4,FALSE)","v":"0003"},58.5,{"$f":"SUMPRODUCT(($D$3:$D$292=D96)*($E$3:$E$292=E96)*($G$3:$G$292>G96))+1","v":35}]
[95,"潘胜方","25040100420","新州镇飞云社区","专职网格员",{"$f":"VLOOKUP(C97,[1]考生安排表!$C:$F,4,FALSE)","v":"0003"},58.5,{"$f":"SUMPRODUCT(($D$3:$D$292=D97)*($E$3:$E$292=E97)*($G$3:$G$292>G97))+1","v":35}]
[96,"袁兴琼","25040100104","新州镇飞云社区","专职网格员",{"$f":"VLOOKUP(C98,[1]考生安排表!$C:$F,4,FALSE)","v":"0003"},58,{"$f":"SUMPRODUCT(($D$3:$D$292=D98)*($E$3:$E$292=E98)*($G$3:$G$292>G98))+1","v":38}]
[97,"朱霞","25040100325","新州镇飞云社区","专职网格员",{"$f":"VLOOKUP(C99,[1]考生安排表!$C:$F,4,FALSE)","v":"0003"},58,{"$f":"SUMPRODUCT(($D$3:$D$292=D99)*($E$3:$E$292=E99)*($G$3:$G$292>G99))+1","v":38}]
[98,"王春会","25040100204","新州镇飞云社区","专职网格员",{"$f":"VLOOKUP(C100,[1]考生安排表!$C:$F,4,FALSE)","v":"0003"},57.5,{"$f":"SUMPRODUCT(($D$3:$D$292=D100)*($E$3:$E$292=E100)*($G$3:$G$292>G100))+1","v":40}]
[99,"叶静","25040100214","新州镇飞云社区","专职网格员",{"$f":"VLOOKUP(C101,[1]考生安排表!$C:$F,4,FALSE)","v":"0003"},57.5,{"$f":"SUMPRODUCT(($D$3:$D$292=D101)*($E$3:$E$292=E101)*($G$3:$G$292>G101))+1","v":40}]
[100,"肖纪龙","25040100711","新州镇飞云社区","专职网格员",{"$f":"VLOOKUP(C102,[1]考生安排表!$C:$F,4,FALSE)","v":"0003"},57,{"$f":"SUMPRODUCT(($D$3:$D$292=D102)*($E$3:$E$292=E102)*($G$3:$G$292>G102))+1","v":42}]
[101,"龙人源","25040100905","新州镇飞云社区","专职网格员",{"$f":"VLOOKUP(C103,[1]考生安排表!$C:$F,4,FALSE)","v":"0003"},56.5,{"$f":"SUMPRODUCT(($D$3:$D$292=D103)*($E$3:$E$292=E103)*($G$3:$G$292>G103))+1","v":43}]
[102,"吴治鹏","25040101005","新州镇飞云社区","专职网格员",{"$f":"VLOOKUP(C104,[1]考生安排表!$C:$F,4,FALSE)","v":"0003"},56,{"$f":"SUMPRODUCT(($D$3:$D$292=D104)*($E$3:$E$292=E104)*($G$3:$G$292>G104))+1","v":44}]
[103,"杨顺丽","25040100722","新州镇飞云社区","专职网格员",{"$f":"VLOOKUP(C105,[1]考生安排表!$C:$F,4,FALSE)","v":"0003"},56,{"$f":"SUMPRODUCT(($D$3:$D$292=D105)*($E$3:$E$292=E105)*($G$3:$G$292>G105))+1","v":44}]
[104,"樊春元","25040100725","新州镇飞云社区","专职网格员",{"$f":"VLOOKUP(C106,[1]考生安排表!$C:$F,4,FALSE)","v":"0003"},55.5,{"$f":"SUMPRODUCT(($D$3:$D$292=D106)*($E$3:$E$292=E106)*($G$3:$G$292>G106))+1","v":46}]
[105,"刘盼","25040100702","新州镇飞云社区","专职网格员",{"$f":"VLOOKUP(C107,[1]考生安排表!$C:$F,4,FALSE)","v":"0003"},55,{"$f":"SUMPRODUCT(($D$3:$D$292=D107)*($E$3:$E$292=E107)*($G$3:$G$292>G107))+1","v":47}]
[106,"田英英","25040100715","新州镇飞云社区","专职网格员",{"$f":"VLOOKUP(C108,[1]考生安排表!$C:$F,4,FALSE)","v":"0003"},53,{"$f":"SUMPRODUCT(($D$3:$D$292=D108)*($E$3:$E$292=E108)*($G$3:$G$292>G108))+1","v":48}]
[107,"张玄丽","25040100312","新州镇飞云社区","专职网格员",{"$f":"VLOOKUP(C109,[1]考生安排表!$C:$F,4,FALSE)","v":"0003"},52,{"$f":"SUMPRODUCT(($D$3:$D$292=D109)*($E$3:$E$292=E109)*($G$3:$G$292>G109))+1","v":49}]
[108,"廖玉仙","25040100614","新州镇飞云社区","专职网格员",{"$f":"VLOOKUP(C110,[1]考生安排表!$C:$F,4,FALSE)","v":"0003"},48,{"$f":"SUMPRODUCT(($D$3:$D$292=D110)*($E$3:$E$292=E110)*($G$3:$G$292>G110))+1","v":50}]
[109,"秦成婕","25040101002","新州镇飞云社区","专职网格员",{"$f":"VLOOKUP(C111,[1]考生安排表!$C:$F,4,FALSE)","v":"0003"},48,{"$f":"SUMPRODUCT(($D$3:$D$292=D111)*($E$3:$E$292=E111)*($G$3:$G$292>G111))+1","v":50}]
[110,"吴方琴","25040100516","新州镇飞云社区","专职网格员",{"$f":"VLOOKUP(C112,[1]考生安排表!$C:$F,4,FALSE)","v":"0003"},47.5,{"$f":"SUMPRODUCT(($D$3:$D$292=D112)*($E$3:$E$292=E112)*($G$3:$G$292>G112))+1","v":52}]
[111,"蔡应军","25040100103","新州镇飞云社区","专职网格员",{"$f":"VLOOKUP(C113,[1]考生安排表!$C:$F,4,FALSE)","v":"0003"},0,{"$f":"SUMPRODUCT(($D$3:$D$292=D113)*($E$3:$E$292=E113)*($G$3:$G$292>G113))+1","v":53},null,"缺考"]
[112,"吴阳","25040100114","新州镇飞云社区","专职网格员",{"$f":"VLOOKUP(C114,[1]考生安排表!$C:$F,4,FALSE)","v":"0003"},0,{"$f":"SUMPRODUCT(($D$3:$D$292=D114)*($E$3:$E$292=E114)*($G$3:$G$292>G114))+1","v":53},null,"缺考"]
[113,"杨颖","25040100224","新州镇飞云社区","专职网格员",{"$f":"VLOOKUP(C115,[1]考生安排表!$C:$F,4,FALSE)","v":"0003"},0,{"$f":"SUMPRODUCT(($D$3:$D$292=D115)*($E$3:$E$292=E115)*($G$3:$G$292>G115))+1","v":53},null,"缺考"]
[114,"张万珍","25040100229","新州镇飞云社区","专职网格员",{"$f":"VLOOKUP(C116,[1]考生安排表!$C:$F,4,FALSE)","v":"0003"},0,{"$f":"SUMPRODUCT(($D$3:$D$292=D116)*($E$3:$E$292=E116)*($G$3:$G$292>G116))+1","v":53},null,"缺考"]
[115,"潘芬","25040100307","新州镇飞云社区","专职网格员",{"$f":"VLOOKUP(C117,[1]考生安排表!$C:$F,4,FALSE)","v":"0003"},0,{"$f":"SUMPRODUCT(($D$3:$D$292=D117)*($E$3:$E$292=E117)*($G$3:$G$292>G117))+1","v":53},null,"缺考"]
[116,"潘东阳","25040100316","新州镇飞云社区","专职网格员",{"$f":"VLOOKUP(C118,[1]考生安排表!$C:$F,4,FALSE)","v":"0003"},0,{"$f":"SUMPRODUCT(($D$3:$D$292=D118)*($E$3:$E$292=E118)*($G$3:$G$292>G118))+1","v":53},null,"缺考"]
[117,"潘忠文","25040100319","新州镇飞云社区","专职网格员",{"$f":"VLOOKUP(C119,[1]考生安排表!$C:$F,4,FALSE)","v":"0003"},0,{"$f":"SUMPRODUCT(($D$3:$D$292=D119)*($E$3:$E$292=E119)*($G$3:$G$292>G119))+1","v":53},null,"缺考"]
[118,"杨通婷","25040100323","新州镇飞云社区","专职网格员",{"$f":"VLOOKUP(C120,[1]考生安排表!$C:$F,4,FALSE)","v":"0003"},0,{"$f":"SUMPRODUCT(($D$3:$D$292=D120)*($E$3:$E$292=E120)*($G$3:$G$292>G120))+1","v":53},null,"缺考"]
[119,"杨秀梅","25040100326","新州镇飞云社区","专职网格员",{"$f":"VLOOKUP(C121,[1]考生安排表!$C:$F,4,FALSE)","v":"0003"},0,{"$f":"SUMPRODUCT(($D$3:$D$292=D121)*($E$3:$E$292=E121)*($G$3:$G$292>G121))+1","v":53},null,"缺考"]
[120,"张春","25040100329","新州镇飞云社区","专职网格员",{"$f":"VLOOKUP(C122,[1]考生安排表!$C:$F,4,FALSE)","v":"0003"},0,{"$f":"SUMPRODUCT(($D$3:$D$292=D122)*($E$3:$E$292=E122)*($G$3:$G$292>G122))+1","v":53},null,"缺考"]
[121,"姚秋璇","25040100401","新州镇飞云社区","专职网格员",{"$f":"VLOOKUP(C123,[1]考生安排表!$C:$F,4,FALSE)","v":"0003"},0,{"$f":"SUMPRODUCT(($D$3:$D$292=D123)*($E$3:$E$292=E123)*($G$3:$G$292>G123))+1","v":53},null,"缺考"]
[122,"王秋兴","25040100402","新州镇飞云社区","专职网格员",{"$f":"VLOOKUP(C124,[1]考生安排表!$C:$F,4,FALSE)","v":"0003"},0,{"$f":"SUMPRODUCT(($D$3:$D$292=D124)*($E$3:$E$292=E124)*($G$3:$G$292>G124))+1","v":53},null,"缺考"]
[123,"杨方力","25040100403","新州镇飞云社区","专职网格员",{"$f":"VLOOKUP(C125,[1]考生安排表!$C:$F,4,FALSE)","v":"0003"},0,{"$f":"SUMPRODUCT(($D$3:$D$292=D125)*($E$3:$E$292=E125)*($G$3:$G$292>G125))+1","v":53},null,"缺考"]
[124,"潘成钱","25040100406","新州镇飞云社区","专职网格员",{"$f":"VLOOKUP(C126,[1]考生安排表!$C:$F,4,FALSE)","v":"0003"},0,{"$f":"SUMPRODUCT(($D$3:$D$292=D126)*($E$3:$E$292=E126)*($G$3:$G$292>G126))+1","v":53},null,"缺考"]
[125,"雷海燕","25040100415","新州镇飞云社区","专职网格员",{"$f":"VLOOKUP(C127,[1]考生安排表!$C:$F,4,FALSE)","v":"0003"},0,{"$f":"SUMPRODUCT(($D$3:$D$292=D127)*($E$3:$E$292=E127)*($G$3:$G$292>G127))+1","v":53},null,"缺考"]
[126,"周为勤","25040100417","新州镇飞云社区","专职网格员",{"$f":"VLOOKUP(C128,[1]考生安排表!$C:$F,4,FALSE)","v":"0003"},0,{"$f":"SUMPRODUCT(($D$3:$D$292=D128)*($E$3:$E$292=E128)*($G$3:$G$292>G128))+1","v":53},null,"缺考"]
[127,"莫庆威","25040100418","新州镇飞云社区","专职网格员",{"$f":"VLOOKUP(C129,[1]考生安排表!$C:$F,4,FALSE)","v":"0003"},0,{"$f":"SUMPRODUCT(($D$3:$D$292=D129)*($E$3:$E$292=E129)*($G$3:$G$292>G129))+1","v":53},null,"缺考"]
[128,"潘令蝶","25040100422","新州镇飞云社区","专职网格员",{"$f":"VLOOKUP(C130,[1]考生安排表!$C:$F,4,FALSE)","v":"0003"},0,{"$f":"SUMPRODUCT(($D$3:$D$292=D130)*($E$3:$E$292=E130)*($G$3:$G$292>G130))+1","v":53},null,"缺考"]
[129,"雷茜","25040100504","新州镇飞云社区","专职网格员",{"$f":"VLOOKUP(C131,[1]考生安排表!$C:$F,4,FALSE)","v":"0003"},0,{"$f":"SUMPRODUCT(($D$3:$D$292=D131)*($E$3:$E$292=E131)*($G$3:$G$292>G131))+1","v":53},null,"缺考"]
[130,"秦国智","25040100521","新州镇飞云社区","专职网格员",{"$f":"VLOOKUP(C132,[1]考生安排表!$C:$F,4,FALSE)","v":"0003"},0,{"$f":"SUMPRODUCT(($D$3:$D$292=D132)*($E$3:$E$292=E132)*($G$3:$G$292>G132))+1","v":53},null,"缺考"]
[131,"杨润","25040100522","新州镇飞云社区","专职网格员",{"$f":"VLOOKUP(C133,[1]考生安排表!$C:$F,4,FALSE)","v":"0003"},0,{"$f":"SUMPRODUCT(($D$3:$D$292=D133)*($E$3:$E$292=E133)*($G$3:$G$292>G133))+1","v":53},null,"缺考"]
[132,"潘州","25040100524","新州镇飞云社区","专职网格员",{"$f":"VLOOKUP(C134,[1]考生安排表!$C:$F,4,FALSE)","v":"0003"},0,{"$f":"SUMPRODUCT(($D$3:$D$292=D134)*($E$3:$E$292=E134)*($G$3:$G$292>G134))+1","v":53},null,"缺考"]
[133,"邹梦瑶","25040100601","新州镇飞云社区","专职网格员",{"$f":"VLOOKUP(C135,[1]考生安排表!$C:$F,4,FALSE)","v":"0003"},0,{"$f":"SUMPRODUCT(($D$3:$D$292=D135)*($E$3:$E$292=E135)*($G$3:$G$292>G135))+1","v":53},null,"缺考"]
[134,"潘桃花","25040100609","新州镇飞云社区","专职网格员",{"$f":"VLOOKUP(C136,[1]考生安排表!$C:$F,4,FALSE)","v":"0003"},0,{"$f":"SUMPRODUCT(($D$3:$D$292=D136)*($E$3:$E$292=E136)*($G$3:$G$292>G136))+1","v":53},null,"缺考"]
[135,"任红燕","25040100618","新州镇飞云社区","专职网格员",{"$f":"VLOOKUP(C137,[1]考生安排表!$C:$F,4,FALSE)","v":"0003"},0,{"$f":"SUMPRODUCT(($D$3:$D$292=D137)*($E$3:$E$292=E137)*($G$3:$G$292>G137))+1","v":53},null,"缺考"]
[136,"李玲","25040100630","新州镇飞云社区","专职网格员",{"$f":"VLOOKUP(C138,[1]考生安排表!$C:$F,4,FALSE)","v":"0003"},0,{"$f":"SUMPRODUCT(($D$3:$D$292=D138)*($E$3:$E$292=E138)*($G$3:$G$292>G138))+1","v":53},null,"缺考"]
[137,"欧华翔","25040100706","新州镇飞云社区","专职网格员",{"$f":"VLOOKUP(C139,[1]考生安排表!$C:$F,4,FALSE)","v":"0003"},0,{"$f":"SUMPRODUCT(($D$3:$D$292=D139)*($E$3:$E$292=E139)*($G$3:$G$292>G139))+1","v":53},null,"缺考"]
[138,"舒象松","25040100707","新州镇飞云社区","专职网格员",{"$f":"VLOOKUP(C140,[1]考生安排表!$C:$F,4,FALSE)","v":"0003"},0,{"$f":"SUMPRODUCT(($D$3:$D$292=D140)*($E$3:$E$292=E140)*($G$3:$G$292>G140))+1","v":53},null,"缺考"]
[139,"潘心玲","25040100713","新州镇飞云社区","专职网格员",{"$f":"VLOOKUP(C141,[1]考生安排表!$C:$F,4,FALSE)","v":"0003"},0,{"$f":"SUMPRODUCT(($D$3:$D$292=D141)*($E$3:$E$292=E141)*($G$3:$G$292>G141))+1","v":53},null,"缺考"]
[140,"龙小方","25040100723","新州镇飞云社区","专职网格员",{"$f":"VLOOKUP(C142,[1]考生安排表!$C:$F,4,FALSE)","v":"0003"},0,{"$f":"SUMPRODUCT(($D$3:$D$292=D142)*($E$3:$E$292=E142)*($G$3:$G$292>G142))+1","v":53},null,"缺考"]
[141,"王朝眀","25040100815","新州镇飞云社区","专职网格员",{"$f":"VLOOKUP(C143,[1]考生安排表!$C:$F,4,FALSE)","v":"0003"},0,{"$f":"SUMPRODUCT(($D$3:$D$292=D143)*($E$3:$E$292=E143)*($G$3:$G$292>G143))+1","v":53},null,"缺考"]
[142,"蒙飞","25040100820","新州镇飞云社区","专职网格员",{"$f":"VLOOKUP(C144,[1]考生安排表!$C:$F,4,FALSE)","v":"0003"},0,{"$f":"SUMPRODUCT(($D$3:$D$292=D144)*($E$3:$E$292=E144)*($G$3:$G$292>G144))+1","v":53},null,"缺考"]
[143,"杨通银","25040100903","新州镇飞云社区","专职网格员",{"$f":"VLOOKUP(C145,[1]考生安排表!$C:$F,4,FALSE)","v":"0003"},0,{"$f":"SUMPRODUCT(($D$3:$D$292=D145)*($E$3:$E$292=E145)*($G$3:$G$292>G145))+1","v":53},null,"缺考"]
[144,"张婷","25040100910","新州镇飞云社区","专职网格员",{"$f":"VLOOKUP(C146,[1]考生安排表!$C:$F,4,FALSE)","v":"0003"},0,{"$f":"SUMPRODUCT(($D$3:$D$292=D146)*($E$3:$E$292=E146)*($G$3:$G$292>G146))+1","v":53},null,"缺考"]
[145,"潘艳","25040100917","新州镇飞云社区","专职网格员",{"$f":"VLOOKUP(C147,[1]考生安排表!$C:$F,4,FALSE)","v":"0003"},0,{"$f":"SUMPRODUCT(($D$3:$D$292=D147)*($E$3:$E$292=E147)*($G$3:$G$292>G147))+1","v":53},null,"缺考"]
[146,"冯斌","25040100920","新州镇飞云社区","专职网格员",{"$f":"VLOOKUP(C148,[1]考生安排表!$C:$F,4,FALSE)","v":"0003"},0,{"$f":"SUMPRODUCT(($D$3:$D$292=D148)*($E$3:$E$292=E148)*($G$3:$G$292>G148))+1","v":53},null,"缺考"]
[147,"张丽","25040100923","新州镇飞云社区","专职网格员",{"$f":"VLOOKUP(C149,[1]考生安排表!$C:$F,4,FALSE)","v":"0003"},0,{"$f":"SUMPRODUCT(($D$3:$D$292=D149)*($E$3:$E$292=E149)*($G$3:$G$292>G149))+1","v":53},null,"缺考"]
[148,"龙和平","25040100924","新州镇飞云社区","专职网格员",{"$f":"VLOOKUP(C150,[1]考生安排表!$C:$F,4,FALSE)","v":"0003"},0,{"$f":"SUMPRODUCT(($D$3:$D$292=D150)*($E$3:$E$292=E150)*($G$3:$G$292>G150))+1","v":53},null,"缺考"]
[149,"贾婷雅","25040101004","新州镇飞云社区","专职网格员",{"$f":"VLOOKUP(C151,[1]考生安排表!$C:$F,4,FALSE)","v":"0003"},0,{"$f":"SUMPRODUCT(($D$3:$D$292=D151)*($E$3:$E$292=E151)*($G$3:$G$292>G151))+1","v":53},null,"缺考"]
[150,"李雪","25040100110","新州镇四屏社区","专职网格员",{"$f":"VLOOKUP(C152,[1]考生安排表!$C:$F,4,FALSE)","v":"0004"},72.5,{"$f":"SUMPRODUCT(($D$3:$D$292=D152)*($E$3:$E$292=E152)*($G$3:$G$292>G152))+1","v":1},"是"]
[151,"邓煜琳","25040101014","新州镇四屏社区","专职网格员",{"$f":"VLOOKUP(C153,[1]考生安排表!$C:$F,4,FALSE)","v":"0004"},72,{"$f":"SUMPRODUCT(($D$3:$D$292=D153)*($E$3:$E$292=E153)*($G$3:$G$292>G153))+1","v":2},"是"]
[152,"田景飞","25040100217","新州镇四屏社区","专职网格员",{"$f":"VLOOKUP(C154,[1]考生安排表!$C:$F,4,FALSE)","v":"0004"},72,{"$f":"SUMPRODUCT(($D$3:$D$292=D154)*($E$3:$E$292=E154)*($G$3:$G$292>G154))+1","v":2},"是"]
[153,"潘渊","25040100108","新州镇四屏社区","专职网格员",{"$f":"VLOOKUP(C155,[1]考生安排表!$C:$F,4,FALSE)","v":"0004"},71,{"$f":"SUMPRODUCT(($D$3:$D$292=D155)*($E$3:$E$292=E155)*($G$3:$G$292>G155))+1","v":4}]
[154,"杨妹","25040100121","新州镇四屏社区","专职网格员",{"$f":"VLOOKUP(C156,[1]考生安排表!$C:$F,4,FALSE)","v":"0004"},71,{"$f":"SUMPRODUCT(($D$3:$D$292=D156)*($E$3:$E$292=E156)*($G$3:$G$292>G156))+1","v":4}]
[155,"杨芬","25040100519","新州镇四屏社区","专职网格员",{"$f":"VLOOKUP(C157,[1]考生安排表!$C:$F,4,FALSE)","v":"0004"},70.5,{"$f":"SUMPRODUCT(($D$3:$D$292=D157)*($E$3:$E$292=E157)*($G$3:$G$292>G157))+1","v":6}]
[156,"罗佳佳","25040100708","新州镇四屏社区","专职网格员",{"$f":"VLOOKUP(C158,[1]考生安排表!$C:$F,4,FALSE)","v":"0004"},70.5,{"$f":"SUMPRODUCT(($D$3:$D$292=D158)*($E$3:$E$292=E158)*($G$3:$G$292>G158))+1","v":6}]
[157,"潘成","25040100321","新州镇四屏社区","专职网格员",{"$f":"VLOOKUP(C159,[1]考生安排表!$C:$F,4,FALSE)","v":"0004"},70,{"$f":"SUMPRODUCT(($D$3:$D$292=D159)*($E$3:$E$292=E159)*($G$3:$G$292>G159))+1","v":8}]
[158,"彭冰文","25040100817","新州镇四屏社区","专职网格员",{"$f":"VLOOKUP(C160,[1]考生安排表!$C:$F,4,FALSE)","v":"0004"},69.5,{"$f":"SUMPRODUCT(($D$3:$D$292=D160)*($E$3:$E$292=E160)*($G$3:$G$292>G160))+1","v":9}]
[159,"张家鹏","25040100328","新州镇四屏社区","专职网格员",{"$f":"VLOOKUP(C161,[1]考生安排表!$C:$F,4,FALSE)","v":"0004"},69.5,{"$f":"SUMPRODUCT(($D$3:$D$292=D161)*($E$3:$E$292=E161)*($G$3:$G$292>G161))+1","v":9}]
[160,"李思宁","25040100428","新州镇四屏社区","专职网格员",{"$f":"VLOOKUP(C162,[1]考生安排表!$C:$F,4,FALSE)","v":"0004"},69.5,{"$f":"SUMPRODUCT(($D$3:$D$292=D162)*($E$3:$E$292=E162)*($G$3:$G$292>G162))+1","v":9}]
[161,"杨明星","25040100501","新州镇四屏社区","专职网格员",{"$f":"VLOOKUP(C163,[1]考生安排表!$C:$F,4,FALSE)","v":"0004"},69,{"$f":"SUMPRODUCT(($D$3:$D$292=D163)*($E$3:$E$292=E163)*($G$3:$G$292>G163))+1","v":12}]
[162,"陈赓","25040100203","新州镇四屏社区","专职网格员",{"$f":"VLOOKUP(C164,[1]考生安排表!$C:$F,4,FALSE)","v":"0004"},67.5,{"$f":"SUMPRODUCT(($D$3:$D$292=D164)*($E$3:$E$292=E164)*($G$3:$G$292>G164))+1","v":13}]
[163,"杨正发","25040100227","新州镇四屏社区","专职网格员",{"$f":"VLOOKUP(C165,[1]考生安排表!$C:$F,4,FALSE)","v":"0004"},67,{"$f":"SUMPRODUCT(($D$3:$D$292=D165)*($E$3:$E$292=E165)*($G$3:$G$292>G165))+1","v":14}]
[164,"吴玉兰","25040100607","新州镇四屏社区","专职网格员",{"$f":"VLOOKUP(C166,[1]考生安排表!$C:$F,4,FALSE)","v":"0004"},62.5,{"$f":"SUMPRODUCT(($D$3:$D$292=D166)*($E$3:$E$292=E166)*($G$3:$G$292>G166))+1","v":15}]
[165,"陈成","25040100703","新州镇四屏社区","专职网格员",{"$f":"VLOOKUP(C167,[1]考生安排表!$C:$F,4,FALSE)","v":"0004"},62,{"$f":"SUMPRODUCT(($D$3:$D$292=D167)*($E$3:$E$292=E167)*($G$3:$G$292>G167))+1","v":16}]
[166,"吕宗宇","25040100921","新州镇四屏社区","专职网格员",{"$f":"VLOOKUP(C168,[1]考生安排表!$C:$F,4,FALSE)","v":"0004"},62,{"$f":"SUMPRODUCT(($D$3:$D$292=D168)*($E$3:$E$292=E168)*($G$3:$G$292>G168))+1","v":16}]
[167,"潘友红","25040100115","新州镇四屏社区","专职网格员",{"$f":"VLOOKUP(C169,[1]考生安排表!$C:$F,4,FALSE)","v":"0004"},61.5,{"$f":"SUMPRODUCT(($D$3:$D$292=D169)*($E$3:$E$292=E169)*($G$3:$G$292>G169))+1","v":18}]
[168,"杨舒婷","25040100508","新州镇四屏社区","专职网格员",{"$f":"VLOOKUP(C170,[1]考生安排表!$C:$F,4,FALSE)","v":"0004"},61.5,{"$f":"SUMPRODUCT(($D$3:$D$292=D170)*($E$3:$E$292=E170)*($G$3:$G$292>G170))+1","v":18}]
[169,"吴乐","25040100404","新州镇四屏社区","专职网格员",{"$f":"VLOOKUP(C171,[1]考生安排表!$C:$F,4,FALSE)","v":"0004"},60.5,{"$f":"SUMPRODUCT(($D$3:$D$292=D171)*($E$3:$E$292=E171)*($G$3:$G$292>G171))+1","v":20}]
[170,"吴明秀","25040100930","新州镇四屏社区","专职网格员",{"$f":"VLOOKUP(C172,[1]考生安排表!$C:$F,4,FALSE)","v":"0004"},60.5,{"$f":"SUMPRODUCT(($D$3:$D$292=D172)*($E$3:$E$292=E172)*($G$3:$G$292>G172))+1","v":20}]
[171,"李忠斌","25040100918","新州镇四屏社区","专职网格员",{"$f":"VLOOKUP(C173,[1]考生安排表!$C:$F,4,FALSE)","v":"0004"},58.5,{"$f":"SUMPRODUCT(($D$3:$D$292=D173)*($E$3:$E$292=E173)*($G$3:$G$292>G173))+1","v":22}]
[172,"杨兰英","25040100807","新州镇四屏社区","专职网格员",{"$f":"VLOOKUP(C174,[1]考生安排表!$C:$F,4,FALSE)","v":"0004"},58.5,{"$f":"SUMPRODUCT(($D$3:$D$292=D174)*($E$3:$E$292=E174)*($G$3:$G$292>G174))+1","v":22}]
[173,"杨正生","25040100311","新州镇四屏社区","专职网格员",{"$f":"VLOOKUP(C175,[1]考生安排表!$C:$F,4,FALSE)","v":"0004"},56.5,{"$f":"SUMPRODUCT(($D$3:$D$292=D175)*($E$3:$E$292=E175)*($G$3:$G$292>G175))+1","v":24}]
[174,"罗明珍","25040100421","新州镇四屏社区","专职网格员",{"$f":"VLOOKUP(C176,[1]考生安排表!$C:$F,4,FALSE)","v":"0004"},55,{"$f":"SUMPRODUCT(($D$3:$D$292=D176)*($E$3:$E$292=E176)*($G$3:$G$292>G176))+1","v":25}]
[175,"王龙菊","25040100927","新州镇四屏社区","专职网格员",{"$f":"VLOOKUP(C177,[1]考生安排表!$C:$F,4,FALSE)","v":"0004"},53,{"$f":"SUMPRODUCT(($D$3:$D$292=D177)*($E$3:$E$292=E177)*($G$3:$G$292>G177))+1","v":26}]
[176,"张兴扬","25040100201","新州镇四屏社区","专职网格员",{"$f":"VLOOKUP(C178,[1]考生安排表!$C:$F,4,FALSE)","v":"0004"},53,{"$f":"SUMPRODUCT(($D$3:$D$292=D178)*($E$3:$E$292=E178)*($G$3:$G$292>G178))+1","v":26}]
[177,"周熙玉","25040100113","新州镇四屏社区","专职网格员",{"$f":"VLOOKUP(C179,[1]考生安排表!$C:$F,4,FALSE)","v":"0004"},52,{"$f":"SUMPRODUCT(($D$3:$D$292=D179)*($E$3:$E$292=E179)*($G$3:$G$292>G179))+1","v":28}]
[178,"梁应春","25040100922","新州镇四屏社区","专职网格员",{"$f":"VLOOKUP(C180,[1]考生安排表!$C:$F,4,FALSE)","v":"0004"},52,{"$f":"SUMPRODUCT(($D$3:$D$292=D180)*($E$3:$E$292=E180)*($G$3:$G$292>G180))+1","v":28}]
[179,"杨小英","25040100714","新州镇四屏社区","专职网格员",{"$f":"VLOOKUP(C181,[1]考生安排表!$C:$F,4,FALSE)","v":"0004"},48.5,{"$f":"SUMPRODUCT(($D$3:$D$292=D181)*($E$3:$E$292=E181)*($G$3:$G$292>G181))+1","v":30}]
[180,"潘琴","25040100209","新州镇四屏社区","专职网格员",{"$f":"VLOOKUP(C182,[1]考生安排表!$C:$F,4,FALSE)","v":"0004"},47,{"$f":"SUMPRODUCT(($D$3:$D$292=D182)*($E$3:$E$292=E182)*($G$3:$G$292>G182))+1","v":31}]
[181,"何冬琴","25040100220","新州镇四屏社区","专职网格员",{"$f":"VLOOKUP(C183,[1]考生安排表!$C:$F,4,FALSE)","v":"0004"},47,{"$f":"SUMPRODUCT(($D$3:$D$292=D183)*($E$3:$E$292=E183)*($G$3:$G$292>G183))+1","v":31}]
[182,"雷安程","25040100123","新州镇四屏社区","专职网格员",{"$f":"VLOOKUP(C184,[1]考生安排表!$C:$F,4,FALSE)","v":"0004"},46,{"$f":"SUMPRODUCT(($D$3:$D$292=D184)*($E$3:$E$292=E184)*($G$3:$G$292>G184))+1","v":33}]
[183,"潘健红","25040100527","新州镇四屏社区","专职网格员",{"$f":"VLOOKUP(C185,[1]考生安排表!$C:$F,4,FALSE)","v":"0004"},27.5,{"$f":"SUMPRODUCT(($D$3:$D$292=D185)*($E$3:$E$292=E185)*($G$3:$G$292>G185))+1","v":34}]
[184,"罗廷会","25040100111","新州镇四屏社区","专职网格员",{"$f":"VLOOKUP(C186,[1]考生安排表!$C:$F,4,FALSE)","v":"0004"},0,{"$f":"SUMPRODUCT(($D$3:$D$292=D186)*($E$3:$E$292=E186)*($G$3:$G$292>G186))+1","v":35},null,"缺考"]
[185,"龙春花","25040100313","新州镇四屏社区","专职网格员",{"$f":"VLOOKUP(C187,[1]考生安排表!$C:$F,4,FALSE)","v":"0004"},0,{"$f":"SUMPRODUCT(($D$3:$D$292=D187)*($E$3:$E$292=E187)*($G$3:$G$292>G187))+1","v":35},null,"缺考"]
[186,"黄露露","25040100407","新州镇四屏社区","专职网格员",{"$f":"VLOOKUP(C188,[1]考生安排表!$C:$F,4,FALSE)","v":"0004"},0,{"$f":"SUMPRODUCT(($D$3:$D$292=D188)*($E$3:$E$292=E188)*($G$3:$G$292>G188))+1","v":35},null,"缺考"]
[187,"李杰","25040100410","新州镇四屏社区","专职网格员",{"$f":"VLOOKUP(C189,[1]考生安排表!$C:$F,4,FALSE)","v":"0004"},0,{"$f":"SUMPRODUCT(($D$3:$D$292=D189)*($E$3:$E$292=E189)*($G$3:$G$292>G189))+1","v":35},null,"缺考"]
[188,"管庆鑫","25040100502","新州镇四屏社区","专职网格员",{"$f":"VLOOKUP(C190,[1]考生安排表!$C:$F,4,FALSE)","v":"0004"},0,{"$f":"SUMPRODUCT(($D$3:$D$292=D190)*($E$3:$E$292=E190)*($G$3:$G$292>G190))+1","v":35},null,"缺考"]
[189,"曹菁菁","25040100528","新州镇四屏社区","专职网格员",{"$f":"VLOOKUP(C191,[1]考生安排表!$C:$F,4,FALSE)","v":"0004"},0,{"$f":"SUMPRODUCT(($D$3:$D$292=D191)*($E$3:$E$292=E191)*($G$3:$G$292>G191))+1","v":35},null,"缺考"]
[190,"孙翎纭","25040100608","新州镇四屏社区","专职网格员",{"$f":"VLOOKUP(C192,[1]考生安排表!$C:$F,4,FALSE)","v":"0004"},0,{"$f":"SUMPRODUCT(($D$3:$D$292=D192)*($E$3:$E$292=E192)*($G$3:$G$292>G192))+1","v":35},null,"缺考"]
[191,"赵亚楠","25040100612","新州镇四屏社区","专职网格员",{"$f":"VLOOKUP(C193,[1]考生安排表!$C:$F,4,FALSE)","v":"0004"},0,{"$f":"SUMPRODUCT(($D$3:$D$292=D193)*($E$3:$E$292=E193)*($G$3:$G$292>G193))+1","v":35},null,"缺考"]
[192,"王庭芳","25040100624","新州镇四屏社区","专职网格员",{"$f":"VLOOKUP(C194,[1]考生安排表!$C:$F,4,FALSE)","v":"0004"},0,{"$f":"SUMPRODUCT(($D$3:$D$292=D194)*($E$3:$E$292=E194)*($G$3:$G$292>G194))+1","v":35},null,"缺考"]
[193,"李雪梅","25040100726","新州镇四屏社区","专职网格员",{"$f":"VLOOKUP(C195,[1]考生安排表!$C:$F,4,FALSE)","v":"0004"},0,{"$f":"SUMPRODUCT(($D$3:$D$292=D195)*($E$3:$E$292=E195)*($G$3:$G$292>G195))+1","v":35},null,"缺考"]
[194,"卢安莹","25040101015","新州镇四屏社区","专职网格员",{"$f":"VLOOKUP(C196,[1]考生安排表!$C:$F,4,FALSE)","v":"0004"},0,{"$f":"SUMPRODUCT(($D$3:$D$292=D196)*($E$3:$E$292=E196)*($G$3:$G$292>G196))+1","v":35},null,"缺考"]
[195,"杨林飞","25040100828","新州镇文星社区","从事社区党务工作",{"$f":"VLOOKUP(C197,[1]考生安排表!$C:$F,4,FALSE)","v":"0005"},74.5,{"$f":"SUMPRODUCT(($D$3:$D$292=D197)*($E$3:$E$292=E197)*($G$3:$G$292>G197))+1","v":1},"是"]
[196,"解侦祥","25040100928","新州镇文星社区","从事社区党务工作",{"$f":"VLOOKUP(C198,[1]考生安排表!$C:$F,4,FALSE)","v":"0005"},73,{"$f":"SUMPRODUCT(($D$3:$D$292=D198)*($E$3:$E$292=E198)*($G$3:$G$292>G198))+1","v":2},"是"]
[197,"何超超","25040100617","新州镇文星社区","从事社区党务工作",{"$f":"VLOOKUP(C199,[1]考生安排表!$C:$F,4,FALSE)","v":"0005"},71,{"$f":"SUMPRODUCT(($D$3:$D$292=D199)*($E$3:$E$292=E199)*($G$3:$G$292>G199))+1","v":3},"是"]
[198,"杨东平","25040100810","新州镇文星社区","从事社区党务工作",{"$f":"VLOOKUP(C200,[1]考生安排表!$C:$F,4,FALSE)","v":"0005"},67.5,{"$f":"SUMPRODUCT(($D$3:$D$292=D200)*($E$3:$E$292=E200)*($G$3:$G$292>G200))+1","v":4}]
[199,"杨河鑫","25040100818","新州镇文星社区","从事社区党务工作",{"$f":"VLOOKUP(C201,[1]考生安排表!$C:$F,4,FALSE)","v":"0005"},66.5,{"$f":"SUMPRODUCT(($D$3:$D$292=D201)*($E$3:$E$292=E201)*($G$3:$G$292>G201))+1","v":5}]
[200,"杨昌英","25040100310","新州镇文星社区","从事社区党务工作",{"$f":"VLOOKUP(C202,[1]考生安排表!$C:$F,4,FALSE)","v":"0005"},65,{"$f":"SUMPRODUCT(($D$3:$D$292=D202)*($E$3:$E$292=E202)*($G$3:$G$292>G202))+1","v":6}]
[201,"骆德玉","25040100129","新州镇文星社区","从事社区党务工作",{"$f":"VLOOKUP(C203,[1]考生安排表!$C:$F,4,FALSE)","v":"0005"},65,{"$f":"SUMPRODUCT(($D$3:$D$292=D203)*($E$3:$E$292=E203)*($G$3:$G$292>G203))+1","v":6}]
[202,"杨志鹏","25040100216","新州镇文星社区","从事社区党务工作",{"$f":"VLOOKUP(C204,[1]考生安排表!$C:$F,4,FALSE)","v":"0005"},65,{"$f":"SUMPRODUCT(($D$3:$D$292=D204)*($E$3:$E$292=E204)*($G$3:$G$292>G204))+1","v":6}]
[203,"张皓婷","25040101018","新州镇文星社区","从事社区党务工作",{"$f":"VLOOKUP(C205,[1]考生安排表!$C:$F,4,FALSE)","v":"0005"},63.5,{"$f":"SUMPRODUCT(($D$3:$D$292=D205)*($E$3:$E$292=E205)*($G$3:$G$292>G205))+1","v":9}]
[204,"李凯燕","25040100619","新州镇文星社区","从事社区党务工作",{"$f":"VLOOKUP(C206,[1]考生安排表!$C:$F,4,FALSE)","v":"0005"},63,{"$f":"SUMPRODUCT(($D$3:$D$292=D206)*($E$3:$E$292=E206)*($G$3:$G$292>G206))+1","v":10}]
[205,"杨晓芬","25040100414","新州镇文星社区","从事社区党务工作",{"$f":"VLOOKUP(C207,[1]考生安排表!$C:$F,4,FALSE)","v":"0005"},60.5,{"$f":"SUMPRODUCT(($D$3:$D$292=D207)*($E$3:$E$292=E207)*($G$3:$G$292>G207))+1","v":11}]
[206,"潘瑶","25040100822","新州镇文星社区","从事社区党务工作",{"$f":"VLOOKUP(C208,[1]考生安排表!$C:$F,4,FALSE)","v":"0005"},60.5,{"$f":"SUMPRODUCT(($D$3:$D$292=D208)*($E$3:$E$292=E208)*($G$3:$G$292>G208))+1","v":11}]
[207,"韩筠羚","25040100616","新州镇文星社区","从事社区党务工作",{"$f":"VLOOKUP(C209,[1]考生安排表!$C:$F,4,FALSE)","v":"0005"},60.5,{"$f":"SUMPRODUCT(($D$3:$D$292=D209)*($E$3:$E$292=E209)*($G$3:$G$292>G209))+1","v":11}]
[208,"江海","25040100704","新州镇文星社区","从事社区党务工作",{"$f":"VLOOKUP(C210,[1]考生安排表!$C:$F,4,FALSE)","v":"0005"},59.5,{"$f":"SUMPRODUCT(($D$3:$D$292=D210)*($E$3:$E$292=E210)*($G$3:$G$292>G210))+1","v":14}]
[209,"刘玲","25040100906","新州镇文星社区","从事社区党务工作",{"$f":"VLOOKUP(C211,[1]考生安排表!$C:$F,4,FALSE)","v":"0005"},58,{"$f":"SUMPRODUCT(($D$3:$D$292=D211)*($E$3:$E$292=E211)*($G$3:$G$292>G211))+1","v":15}]
[210,"张炳情","25040100805","新州镇文星社区","从事社区党务工作",{"$f":"VLOOKUP(C212,[1]考生安排表!$C:$F,4,FALSE)","v":"0005"},51.5,{"$f":"SUMPRODUCT(($D$3:$D$292=D212)*($E$3:$E$292=E212)*($G$3:$G$292>G212))+1","v":16}]
[211,"吴仕钊","25040100102","新州镇文星社区","从事社区党务工作",{"$f":"VLOOKUP(C213,[1]考生安排表!$C:$F,4,FALSE)","v":"0005"},0,{"$f":"SUMPRODUCT(($D$3:$D$292=D213)*($E$3:$E$292=E213)*($G$3:$G$292>G213))+1","v":17},null,"缺考"]
[212,"吴燕","25040100107","新州镇文星社区","从事社区党务工作",{"$f":"VLOOKUP(C214,[1]考生安排表!$C:$F,4,FALSE)","v":"0005"},0,{"$f":"SUMPRODUCT(($D$3:$D$292=D214)*($E$3:$E$292=E214)*($G$3:$G$292>G214))+1","v":17},null,"缺考"]
[213,"潘英","25040100117","新州镇文星社区","从事社区党务工作",{"$f":"VLOOKUP(C215,[1]考生安排表!$C:$F,4,FALSE)","v":"0005"},0,{"$f":"SUMPRODUCT(($D$3:$D$292=D215)*($E$3:$E$292=E215)*($G$3:$G$292>G215))+1","v":17},null,"缺考"]
[214,"白长林","25040100208","新州镇文星社区","从事社区党务工作",{"$f":"VLOOKUP(C216,[1]考生安排表!$C:$F,4,FALSE)","v":"0005"},0,{"$f":"SUMPRODUCT(($D$3:$D$292=D216)*($E$3:$E$292=E216)*($G$3:$G$292>G216))+1","v":17},null,"缺考"]
[215,"潘国庆","25040100309","新州镇文星社区","从事社区党务工作",{"$f":"VLOOKUP(C217,[1]考生安排表!$C:$F,4,FALSE)","v":"0005"},0,{"$f":"SUMPRODUCT(($D$3:$D$292=D217)*($E$3:$E$292=E217)*($G$3:$G$292>G217))+1","v":17},null,"缺考"]
[216,"雷英","25040100318","新州镇文星社区","从事社区党务工作",{"$f":"VLOOKUP(C218,[1]考生安排表!$C:$F,4,FALSE)","v":"0005"},0,{"$f":"SUMPRODUCT(($D$3:$D$292=D218)*($E$3:$E$292=E218)*($G$3:$G$292>G218))+1","v":17},null,"缺考"]
[217,"张金泉","25040101011","新州镇文星社区","从事社区党务工作",{"$f":"VLOOKUP(C219,[1]考生安排表!$C:$F,4,FALSE)","v":"0005"},0,{"$f":"SUMPRODUCT(($D$3:$D$292=D219)*($E$3:$E$292=E219)*($G$3:$G$292>G219))+1","v":17},null,"缺考"]
[218,"李树","25040100804","新州镇文星社区","专职网格员",{"$f":"VLOOKUP(C220,[1]考生安排表!$C:$F,4,FALSE)","v":"0006"},77,{"$f":"SUMPRODUCT(($D$3:$D$292=D220)*($E$3:$E$292=E220)*($G$3:$G$292>G220))+1","v":1},"是"]
[219,"孙廓凤","25040100305","新州镇文星社区","专职网格员",{"$f":"VLOOKUP(C221,[1]考生安排表!$C:$F,4,FALSE)","v":"0006"},76.5,{"$f":"SUMPRODUCT(($D$3:$D$292=D221)*($E$3:$E$292=E221)*($G$3:$G$292>G221))+1","v":2},"是"]
[220,"吴宇兴","25040100225","新州镇文星社区","专职网格员",{"$f":"VLOOKUP(C222,[1]考生安排表!$C:$F,4,FALSE)","v":"0006"},75.5,{"$f":"SUMPRODUCT(($D$3:$D$292=D222)*($E$3:$E$292=E222)*($G$3:$G$292>G222))+1","v":3},"是"]
[221,"姚驿凡","25040100427","新州镇文星社区","专职网格员",{"$f":"VLOOKUP(C223,[1]考生安排表!$C:$F,4,FALSE)","v":"0006"},75.5,{"$f":"SUMPRODUCT(($D$3:$D$292=D223)*($E$3:$E$292=E223)*($G$3:$G$292>G223))+1","v":3},"是"]
[222,"宋旭辉","25040100302","新州镇文星社区","专职网格员",{"$f":"VLOOKUP(C224,[1]考生安排表!$C:$F,4,FALSE)","v":"0006"},72.5,{"$f":"SUMPRODUCT(($D$3:$D$292=D224)*($E$3:$E$292=E224)*($G$3:$G$292>G224))+1","v":5}]
[223,"王桃花","25040100301","新州镇文星社区","专职网格员",{"$f":"VLOOKUP(C225,[1]考生安排表!$C:$F,4,FALSE)","v":"0006"},71.5,{"$f":"SUMPRODUCT(($D$3:$D$292=D225)*($E$3:$E$292=E225)*($G$3:$G$292>G225))+1","v":6}]
[224,"冯邦美","25040100212","新州镇文星社区","专职网格员",{"$f":"VLOOKUP(C226,[1]考生安排表!$C:$F,4,FALSE)","v":"0006"},70,{"$f":"SUMPRODUCT(($D$3:$D$292=D226)*($E$3:$E$292=E226)*($G$3:$G$292>G226))+1","v":7}]
[225,"吴衣伙","25040100230","新州镇文星社区","专职网格员",{"$f":"VLOOKUP(C227,[1]考生安排表!$C:$F,4,FALSE)","v":"0006"},70,{"$f":"SUMPRODUCT(($D$3:$D$292=D227)*($E$3:$E$292=E227)*($G$3:$G$292>G227))+1","v":7}]
[226,"徐芳芳","25040100709","新州镇文星社区","专职网格员",{"$f":"VLOOKUP(C228,[1]考生安排表!$C:$F,4,FALSE)","v":"0006"},67.5,{"$f":"SUMPRODUCT(($D$3:$D$292=D228)*($E$3:$E$292=E228)*($G$3:$G$292>G228))+1","v":9}]
[227,"吴阳","25040100625","新州镇文星社区","专职网格员",{"$f":"VLOOKUP(C229,[1]考生安排表!$C:$F,4,FALSE)","v":"0006"},67,{"$f":"SUMPRODUCT(($D$3:$D$292=D229)*($E$3:$E$292=E229)*($G$3:$G$292>G229))+1","v":10}]
[228,"潘燕杨","25040100602","新州镇文星社区","专职网格员",{"$f":"VLOOKUP(C230,[1]考生安排表!$C:$F,4,FALSE)","v":"0006"},66,{"$f":"SUMPRODUCT(($D$3:$D$292=D230)*($E$3:$E$292=E230)*($G$3:$G$292>G230))+1","v":11}]
[229,"万里","25040100425","新州镇文星社区","专职网格员",{"$f":"VLOOKUP(C231,[1]考生安排表!$C:$F,4,FALSE)","v":"0006"},65.5,{"$f":"SUMPRODUCT(($D$3:$D$292=D231)*($E$3:$E$292=E231)*($G$3:$G$292>G231))+1","v":12}]
[230,"刘晓芳","25040100629","新州镇文星社区","专职网格员",{"$f":"VLOOKUP(C232,[1]考生安排表!$C:$F,4,FALSE)","v":"0006"},64,{"$f":"SUMPRODUCT(($D$3:$D$292=D232)*($E$3:$E$292=E232)*($G$3:$G$292>G232))+1","v":13}]
[231,"潘家艳","25040100823","新州镇文星社区","专职网格员",{"$f":"VLOOKUP(C233,[1]考生安排表!$C:$F,4,FALSE)","v":"0006"},63,{"$f":"SUMPRODUCT(($D$3:$D$292=D233)*($E$3:$E$292=E233)*($G$3:$G$292>G233))+1","v":14}]
[232,"杨再英","25040100825","新州镇文星社区","专职网格员",{"$f":"VLOOKUP(C234,[1]考生安排表!$C:$F,4,FALSE)","v":"0006"},63,{"$f":"SUMPRODUCT(($D$3:$D$292=D234)*($E$3:$E$292=E234)*($G$3:$G$292>G234))+1","v":14}]
[233,"曾垚青","25040100627","新州镇文星社区","专职网格员",{"$f":"VLOOKUP(C235,[1]考生安排表!$C:$F,4,FALSE)","v":"0006"},61.5,{"$f":"SUMPRODUCT(($D$3:$D$292=D235)*($E$3:$E$292=E235)*($G$3:$G$292>G235))+1","v":16}]
[234,"罗春艳","25040101006","新州镇文星社区","专职网格员",{"$f":"VLOOKUP(C236,[1]考生安排表!$C:$F,4,FALSE)","v":"0006"},58,{"$f":"SUMPRODUCT(($D$3:$D$292=D236)*($E$3:$E$292=E236)*($G$3:$G$292>G236))+1","v":17}]
[235,"雷浩","25040100506","新州镇文星社区","专职网格员",{"$f":"VLOOKUP(C237,[1]考生安排表!$C:$F,4,FALSE)","v":"0006"},56.5,{"$f":"SUMPRODUCT(($D$3:$D$292=D237)*($E$3:$E$292=E237)*($G$3:$G$292>G237))+1","v":18}]
[236,"杨林","25040100806","新州镇文星社区","专职网格员",{"$f":"VLOOKUP(C238,[1]考生安排表!$C:$F,4,FALSE)","v":"0006"},56,{"$f":"SUMPRODUCT(($D$3:$D$292=D238)*($E$3:$E$292=E238)*($G$3:$G$292>G238))+1","v":19}]
[237,"潘秋明","25040100904","新州镇文星社区","专职网格员",{"$f":"VLOOKUP(C239,[1]考生安排表!$C:$F,4,FALSE)","v":"0006"},54.5,{"$f":"SUMPRODUCT(($D$3:$D$292=D239)*($E$3:$E$292=E239)*($G$3:$G$292>G239))+1","v":20}]
[238,"潘开花","25040100206","新州镇文星社区","专职网格员",{"$f":"VLOOKUP(C240,[1]考生安排表!$C:$F,4,FALSE)","v":"0006"},54,{"$f":"SUMPRODUCT(($D$3:$D$292=D240)*($E$3:$E$292=E240)*($G$3:$G$292>G240))+1","v":21}]
[239,"陈霞","25040100411","新州镇文星社区","专职网格员",{"$f":"VLOOKUP(C241,[1]考生安排表!$C:$F,4,FALSE)","v":"0006"},40,{"$f":"SUMPRODUCT(($D$3:$D$292=D241)*($E$3:$E$292=E241)*($G$3:$G$292>G241))+1","v":22}]
[240,"潘丽","25040100419","新州镇文星社区","专职网格员",{"$f":"VLOOKUP(C242,[1]考生安排表!$C:$F,4,FALSE)","v":"0006"},39,{"$f":"SUMPRODUCT(($D$3:$D$292=D242)*($E$3:$E$292=E242)*($G$3:$G$292>G242))+1","v":23}]
[241,"祁晓彤","25040100211","新州镇文星社区","专职网格员",{"$f":"VLOOKUP(C243,[1]考生安排表!$C:$F,4,FALSE)","v":"0006"},39,{"$f":"SUMPRODUCT(($D$3:$D$292=D243)*($E$3:$E$292=E243)*($G$3:$G$292>G243))+1","v":23}]
[242,"雷泺铍","25040100925","新州镇文星社区","专职网格员",{"$f":"VLOOKUP(C244,[1]考生安排表!$C:$F,4,FALSE)","v":"0006"},33,{"$f":"SUMPRODUCT(($D$3:$D$292=D244)*($E$3:$E$292=E244)*($G$3:$G$292>G244))+1","v":25}]
[243,"杨剑英","25040100520","新州镇文星社区","专职网格员",{"$f":"VLOOKUP(C245,[1]考生安排表!$C:$F,4,FALSE)","v":"0006"},0,{"$f":"SUMPRODUCT(($D$3:$D$292=D245)*($E$3:$E$292=E245)*($G$3:$G$292>G245))+1","v":26},null,"缺考"]
[244,"杨彭尹","25040100426","新州镇兴隆社区","专职网格员",{"$f":"VLOOKUP(C246,[1]考生安排表!$C:$F,4,FALSE)","v":"0007"},79,{"$f":"SUMPRODUCT(($D$3:$D$292=D246)*($E$3:$E$292=E246)*($G$3:$G$292>G246))+1","v":1},"是"]
[245,"陈约","25040100511","新州镇兴隆社区","专职网格员",{"$f":"VLOOKUP(C247,[1]考生安排表!$C:$F,4,FALSE)","v":"0007"},77.5,{"$f":"SUMPRODUCT(($D$3:$D$292=D247)*($E$3:$E$292=E247)*($G$3:$G$292>G247))+1","v":2},"是"]
[246,"刘海霞","25040100101","新州镇兴隆社区","专职网格员",{"$f":"VLOOKUP(C248,[1]考生安排表!$C:$F,4,FALSE)","v":"0007"},76.5,{"$f":"SUMPRODUCT(($D$3:$D$292=D248)*($E$3:$E$292=E248)*($G$3:$G$292>G248))+1","v":3},"是"]
[247,"雷小琴","25040101020","新州镇兴隆社区","专职网格员",{"$f":"VLOOKUP(C249,[1]考生安排表!$C:$F,4,FALSE)","v":"0007"},73.5,{"$f":"SUMPRODUCT(($D$3:$D$292=D249)*($E$3:$E$292=E249)*($G$3:$G$292>G249))+1","v":4}]
[248,"李杰","25040100816","新州镇兴隆社区","专职网格员",{"$f":"VLOOKUP(C250,[1]考生安排表!$C:$F,4,FALSE)","v":"0007"},73,{"$f":"SUMPRODUCT(($D$3:$D$292=D250)*($E$3:$E$292=E250)*($G$3:$G$292>G250))+1","v":5}]
[249,"杨林","25040100628","新州镇兴隆社区","专职网格员",{"$f":"VLOOKUP(C251,[1]考生安排表!$C:$F,4,FALSE)","v":"0007"},71.5,{"$f":"SUMPRODUCT(($D$3:$D$292=D251)*($E$3:$E$292=E251)*($G$3:$G$292>G251))+1","v":6}]
[250,"潘兰","25040100127","新州镇兴隆社区","专职网格员",{"$f":"VLOOKUP(C252,[1]考生安排表!$C:$F,4,FALSE)","v":"0007"},71,{"$f":"SUMPRODUCT(($D$3:$D$292=D252)*($E$3:$E$292=E252)*($G$3:$G$292>G252))+1","v":7}]
[251,"李江阳","25040100303","新州镇兴隆社区","专职网格员",{"$f":"VLOOKUP(C253,[1]考生安排表!$C:$F,4,FALSE)","v":"0007"},70.5,{"$f":"SUMPRODUCT(($D$3:$D$292=D253)*($E$3:$E$292=E253)*($G$3:$G$292>G253))+1","v":8}]
[252,"张兴惠","25040100306","新州镇兴隆社区","专职网格员",{"$f":"VLOOKUP(C254,[1]考生安排表!$C:$F,4,FALSE)","v":"0007"},69,{"$f":"SUMPRODUCT(($D$3:$D$292=D254)*($E$3:$E$292=E254)*($G$3:$G$292>G254))+1","v":9}]
[253,"潘金光","25040100219","新州镇兴隆社区","专职网格员",{"$f":"VLOOKUP(C255,[1]考生安排表!$C:$F,4,FALSE)","v":"0007"},67.5,{"$f":"SUMPRODUCT(($D$3:$D$292=D255)*($E$3:$E$292=E255)*($G$3:$G$292>G255))+1","v":10}]
[254,"潘晓彤","25040100222","新州镇兴隆社区","专职网格员",{"$f":"VLOOKUP(C256,[1]考生安排表!$C:$F,4,FALSE)","v":"0007"},67,{"$f":"SUMPRODUCT(($D$3:$D$292=D256)*($E$3:$E$292=E256)*($G$3:$G$292>G256))+1","v":11}]
[255,"李文艺","25040100308","新州镇兴隆社区","专职网格员",{"$f":"VLOOKUP(C257,[1]考生安排表!$C:$F,4,FALSE)","v":"0007"},63,{"$f":"SUMPRODUCT(($D$3:$D$292=D257)*($E$3:$E$292=E257)*($G$3:$G$292>G257))+1","v":12}]
[256,"吴兴星","25040100908","新州镇兴隆社区","专职网格员",{"$f":"VLOOKUP(C258,[1]考生安排表!$C:$F,4,FALSE)","v":"0007"},62.5,{"$f":"SUMPRODUCT(($D$3:$D$292=D258)*($E$3:$E$292=E258)*($G$3:$G$292>G258))+1","v":13}]
[257,"雷云","25040100430","新州镇兴隆社区","专职网格员",{"$f":"VLOOKUP(C259,[1]考生安排表!$C:$F,4,FALSE)","v":"0007"},62,{"$f":"SUMPRODUCT(($D$3:$D$292=D259)*($E$3:$E$292=E259)*($G$3:$G$292>G259))+1","v":14}]
[258,"唐柳红","25040100408","新州镇兴隆社区","专职网格员",{"$f":"VLOOKUP(C260,[1]考生安排表!$C:$F,4,FALSE)","v":"0007"},61.5,{"$f":"SUMPRODUCT(($D$3:$D$292=D260)*($E$3:$E$292=E260)*($G$3:$G$292>G260))+1","v":15}]
[259,"代明发","25040100712","新州镇兴隆社区","专职网格员",{"$f":"VLOOKUP(C261,[1]考生安排表!$C:$F,4,FALSE)","v":"0007"},61.5,{"$f":"SUMPRODUCT(($D$3:$D$292=D261)*($E$3:$E$292=E261)*($G$3:$G$292>G261))+1","v":15}]
[260,"刘萍","25040100327","新州镇兴隆社区","专职网格员",{"$f":"VLOOKUP(C262,[1]考生安排表!$C:$F,4,FALSE)","v":"0007"},61.5,{"$f":"SUMPRODUCT(($D$3:$D$292=D262)*($E$3:$E$292=E262)*($G$3:$G$292>G262))+1","v":15}]
[261,"沈廷碧","25040100226","新州镇兴隆社区","专职网格员",{"$f":"VLOOKUP(C263,[1]考生安排表!$C:$F,4,FALSE)","v":"0007"},60.5,{"$f":"SUMPRODUCT(($D$3:$D$292=D263)*($E$3:$E$292=E263)*($G$3:$G$292>G263))+1","v":18}]
[262,"孙兴莉","25040100314","新州镇兴隆社区","专职网格员",{"$f":"VLOOKUP(C264,[1]考生安排表!$C:$F,4,FALSE)","v":"0007"},59.5,{"$f":"SUMPRODUCT(($D$3:$D$292=D264)*($E$3:$E$292=E264)*($G$3:$G$292>G264))+1","v":19}]
[263,"杨黎明","25040100812","新州镇兴隆社区","专职网格员",{"$f":"VLOOKUP(C265,[1]考生安排表!$C:$F,4,FALSE)","v":"0007"},59,{"$f":"SUMPRODUCT(($D$3:$D$292=D265)*($E$3:$E$292=E265)*($G$3:$G$292>G265))+1","v":20}]
[264,"周倩宏","25040100507","新州镇兴隆社区","专职网格员",{"$f":"VLOOKUP(C266,[1]考生安排表!$C:$F,4,FALSE)","v":"0007"},59,{"$f":"SUMPRODUCT(($D$3:$D$292=D266)*($E$3:$E$292=E266)*($G$3:$G$292>G266))+1","v":20}]
[265,"王永刚","25040101013","新州镇兴隆社区","专职网格员",{"$f":"VLOOKUP(C267,[1]考生安排表!$C:$F,4,FALSE)","v":"0007"},59,{"$f":"SUMPRODUCT(($D$3:$D$292=D267)*($E$3:$E$292=E267)*($G$3:$G$292>G267))+1","v":20}]
[266,"杨乐","25040100405","新州镇兴隆社区","专职网格员",{"$f":"VLOOKUP(C268,[1]考生安排表!$C:$F,4,FALSE)","v":"0007"},58.5,{"$f":"SUMPRODUCT(($D$3:$D$292=D268)*($E$3:$E$292=E268)*($G$3:$G$292>G268))+1","v":23}]
[267,"吴昌照","25040100829","新州镇兴隆社区","专职网格员",{"$f":"VLOOKUP(C269,[1]考生安排表!$C:$F,4,FALSE)","v":"0007"},58,{"$f":"SUMPRODUCT(($D$3:$D$292=D269)*($E$3:$E$292=E269)*($G$3:$G$292>G269))+1","v":24}]
[268,"梅启琴","25040100824","新州镇兴隆社区","专职网格员",{"$f":"VLOOKUP(C270,[1]考生安排表!$C:$F,4,FALSE)","v":"0007"},57.5,{"$f":"SUMPRODUCT(($D$3:$D$292=D270)*($E$3:$E$292=E270)*($G$3:$G$292>G270))+1","v":25}]
[269,"雷洪","25040100503","新州镇兴隆社区","专职网格员",{"$f":"VLOOKUP(C271,[1]考生安排表!$C:$F,4,FALSE)","v":"0007"},57.5,{"$f":"SUMPRODUCT(($D$3:$D$292=D271)*($E$3:$E$292=E271)*($G$3:$G$292>G271))+1","v":25}]
[270,"杨燕","25040100721","新州镇兴隆社区","专职网格员",{"$f":"VLOOKUP(C272,[1]考生安排表!$C:$F,4,FALSE)","v":"0007"},53.5,{"$f":"SUMPRODUCT(($D$3:$D$292=D272)*($E$3:$E$292=E272)*($G$3:$G$292>G272))+1","v":27}]
[271,"雷安兰","25040100106","新州镇兴隆社区","专职网格员",{"$f":"VLOOKUP(C273,[1]考生安排表!$C:$F,4,FALSE)","v":"0007"},52.5,{"$f":"SUMPRODUCT(($D$3:$D$292=D273)*($E$3:$E$292=E273)*($G$3:$G$292>G273))+1","v":28}]
[272,"吴寿明","25040100613","新州镇兴隆社区","专职网格员",{"$f":"VLOOKUP(C274,[1]考生安排表!$C:$F,4,FALSE)","v":"0007"},51,{"$f":"SUMPRODUCT(($D$3:$D$292=D274)*($E$3:$E$292=E274)*($G$3:$G$292>G274))+1","v":29}]
[273,"赵朋","25040100913","新州镇兴隆社区","专职网格员",{"$f":"VLOOKUP(C275,[1]考生安排表!$C:$F,4,FALSE)","v":"0007"},51,{"$f":"SUMPRODUCT(($D$3:$D$292=D275)*($E$3:$E$292=E275)*($G$3:$G$292>G275))+1","v":29}]
[274,"潘家燕","25040100915","新州镇兴隆社区","专职网格员",{"$f":"VLOOKUP(C276,[1]考生安排表!$C:$F,4,FALSE)","v":"0007"},50.5,{"$f":"SUMPRODUCT(($D$3:$D$292=D276)*($E$3:$E$292=E276)*($G$3:$G$292>G276))+1","v":31}]
[275,"安艳帮","25040100416","新州镇兴隆社区","专职网格员",{"$f":"VLOOKUP(C277,[1]考生安排表!$C:$F,4,FALSE)","v":"0007"},49.5,{"$f":"SUMPRODUCT(($D$3:$D$292=D277)*($E$3:$E$292=E277)*($G$3:$G$292>G277))+1","v":32}]
[276,"潘华","25040100701","新州镇兴隆社区","专职网格员",{"$f":"VLOOKUP(C278,[1]考生安排表!$C:$F,4,FALSE)","v":"0007"},48,{"$f":"SUMPRODUCT(($D$3:$D$292=D278)*($E$3:$E$292=E278)*($G$3:$G$292>G278))+1","v":33}]
[277,"梅通琴","25040100914","新州镇兴隆社区","专职网格员",{"$f":"VLOOKUP(C279,[1]考生安排表!$C:$F,4,FALSE)","v":"0007"},43.5,{"$f":"SUMPRODUCT(($D$3:$D$292=D279)*($E$3:$E$292=E279)*($G$3:$G$292>G279))+1","v":34}]
[278,"彭俊雪","25040100105","新州镇兴隆社区","专职网格员",{"$f":"VLOOKUP(C280,[1]考生安排表!$C:$F,4,FALSE)","v":"0007"},0,{"$f":"SUMPRODUCT(($D$3:$D$292=D280)*($E$3:$E$292=E280)*($G$3:$G$292>G280))+1","v":35},null,"缺考"]
[279,"刘承国","25040100109","新州镇兴隆社区","专职网格员",{"$f":"VLOOKUP(C281,[1]考生安排表!$C:$F,4,FALSE)","v":"0007"},0,{"$f":"SUMPRODUCT(($D$3:$D$292=D281)*($E$3:$E$292=E281)*($G$3:$G$292>G281))+1","v":35},null,"缺考"]
[280,"熊红梅","25040100119","新州镇兴隆社区","专职网格员",{"$f":"VLOOKUP(C282,[1]考生安排表!$C:$F,4,FALSE)","v":"0007"},0,{"$f":"SUMPRODUCT(($D$3:$D$292=D282)*($E$3:$E$292=E282)*($G$3:$G$292>G282))+1","v":35},null,"缺考"]
[281,"廖艺杰","25040100130","新州镇兴隆社区","专职网格员",{"$f":"VLOOKUP(C283,[1]考生安排表!$C:$F,4,FALSE)","v":"0007"},0,{"$f":"SUMPRODUCT(($D$3:$D$292=D283)*($E$3:$E$292=E283)*($G$3:$G$292>G283))+1","v":35},null,"缺考"]
[282,"徐勇","25040100215","新州镇兴隆社区","专职网格员",{"$f":"VLOOKUP(C284,[1]考生安排表!$C:$F,4,FALSE)","v":"0007"},0,{"$f":"SUMPRODUCT(($D$3:$D$292=D284)*($E$3:$E$292=E284)*($G$3:$G$292>G284))+1","v":35},null,"缺考"]
[283,"陈炫峰","25040100330","新州镇兴隆社区","专职网格员",{"$f":"VLOOKUP(C285,[1]考生安排表!$C:$F,4,FALSE)","v":"0007"},0,{"$f":"SUMPRODUCT(($D$3:$D$292=D285)*($E$3:$E$292=E285)*($G$3:$G$292>G285))+1","v":35},null,"缺考"]
[284,"向国缘","25040100514","新州镇兴隆社区","专职网格员",{"$f":"VLOOKUP(C286,[1]考生安排表!$C:$F,4,FALSE)","v":"0007"},0,{"$f":"SUMPRODUCT(($D$3:$D$292=D286)*($E$3:$E$292=E286)*($G$3:$G$292>G286))+1","v":35},null,"缺考"]
[285,"杨妹","25040100719","新州镇兴隆社区","专职网格员",{"$f":"VLOOKUP(C287,[1]考生安排表!$C:$F,4,FALSE)","v":"0007"},0,{"$f":"SUMPRODUCT(($D$3:$D$292=D287)*($E$3:$E$292=E287)*($G$3:$G$292>G287))+1","v":35},null,"缺考"]
[286,"张洪","25040100724","新州镇兴隆社区","专职网格员",{"$f":"VLOOKUP(C288,[1]考生安排表!$C:$F,4,FALSE)","v":"0007"},0,{"$f":"SUMPRODUCT(($D$3:$D$292=D288)*($E$3:$E$292=E288)*($G$3:$G$292>G288))+1","v":35},null,"缺考"]
[287,"陈青青","25040100814","新州镇兴隆社区","专职网格员",{"$f":"VLOOKUP(C289,[1]考生安排表!$C:$F,4,FALSE)","v":"0007"},0,{"$f":"SUMPRODUCT(($D$3:$D$292=D289)*($E$3:$E$292=E289)*($G$3:$G$292>G289))+1","v":35},null,"缺考"]
[288,"谢海燕","25040100826","新州镇兴隆社区","专职网格员",{"$f":"VLOOKUP(C290,[1]考生安排表!$C:$F,4,FALSE)","v":"0007"},0,{"$f":"SUMPRODUCT(($D$3:$D$292=D290)*($E$3:$E$292=E290)*($G$3:$G$292>G290))+1","v":35},null,"缺考"]
[289,"陈文平","25040100911","新州镇兴隆社区","专职网格员",{"$f":"VLOOKUP(C291,[1]考生安排表!$C:$F,4,FALSE)","v":"0007"},0,{"$f":"SUMPRODUCT(($D$3:$D$292=D291)*($E$3:$E$292=E291)*($G$3:$G$292>G291))+1","v":35},null,"缺考"]
[290,"张国梅","25040101001","新州镇兴隆社区","专职网格员",{"$f":"VLOOKUP(C292,[1]考生安排表!$C:$F,4,FALSE)","v":"0007"},0,{"$f":"SUMPRODUCT(($D$3:$D$292=D292)*($E$3:$E$292=E292)*($G$3:$G$292>G292))+1","v":35},null,"缺考"]